BEGIN:VCALENDAR
VERSION:2.0
PRODID:-//Sophos - ECPv6.15.17.1//NONSGML v1.0//EN
CALSCALE:GREGORIAN
METHOD:PUBLISH
X-ORIGINAL-URL:https://www.sophosenlinea.com
X-WR-CALDESC:Eventos para Sophos
REFRESH-INTERVAL;VALUE=DURATION:PT1H
X-Robots-Tag:noindex
X-PUBLISHED-TTL:PT1H
BEGIN:VTIMEZONE
TZID:America/Chicago
BEGIN:DAYLIGHT
TZOFFSETFROM:-0600
TZOFFSETTO:-0500
TZNAME:CDT
DTSTART:20170312T080000
END:DAYLIGHT
BEGIN:STANDARD
TZOFFSETFROM:-0500
TZOFFSETTO:-0600
TZNAME:CST
DTSTART:20171105T070000
END:STANDARD
BEGIN:DAYLIGHT
TZOFFSETFROM:-0600
TZOFFSETTO:-0500
TZNAME:CDT
DTSTART:20180311T080000
END:DAYLIGHT
BEGIN:STANDARD
TZOFFSETFROM:-0500
TZOFFSETTO:-0600
TZNAME:CST
DTSTART:20181104T070000
END:STANDARD
BEGIN:DAYLIGHT
TZOFFSETFROM:-0600
TZOFFSETTO:-0500
TZNAME:CDT
DTSTART:20190310T080000
END:DAYLIGHT
BEGIN:STANDARD
TZOFFSETFROM:-0500
TZOFFSETTO:-0600
TZNAME:CST
DTSTART:20191103T070000
END:STANDARD
END:VTIMEZONE
BEGIN:VEVENT
DTSTART;TZID=America/Chicago:20180901T110000
DTEND;TZID=America/Chicago:20180901T120000
DTSTAMP:20260419T161544
CREATED:20180829T132211Z
LAST-MODIFIED:20180829T132211Z
UID:14785-1535799600-1535803200@www.sophosenlinea.com
SUMMARY:Presentación para niños: Yaya Paquita
DESCRIPTION:Itala Vetorazzi presenta su nuevo libro para niños. La historia de una viejecita que vive en un lugar mágico\, entre altas montañas azules. Ella es todo corazón y cree que «una pena compartida es media pena». Vive para compartir los pesares de su pueblo\, especialmente los de los niños\, y para lograrlo\, consigue ayuda de las muñequitas quitapenas.
URL:https://www.sophosenlinea.com/event/presentacion-ninos-yaya-paquita/
LOCATION:Sophos Libreria\, 4ta Avenida 12-59 Zona 10 Plaza Fontabella 2do. nivel local 1D\, Guatemala City\, 01010\, Guatemala
ATTACH;FMTTYPE=image/png:https://www.sophosenlinea.com/wp-content/uploads/2018/08/yaya-paquita.png
END:VEVENT
BEGIN:VEVENT
DTSTART;TZID=America/Chicago:20180904T190000
DTEND;TZID=America/Chicago:20180904T210000
DTSTAMP:20260419T161544
CREATED:20180829T132409Z
LAST-MODIFIED:20180829T132409Z
UID:14788-1536087600-1536094800@www.sophosenlinea.com
SUMMARY:Presentación de libro: "Para servirle" por Anabella Giracca
DESCRIPTION:Anabella Giracca su nueva novela «Para servirle» de la mano de Alfaguara \nSobre el libro:\nTeresa Montenegro ha desaparecido y culpan a su esposo de haberla asesinado. La única testigo es Candelaria Aguablanca\, la sirvienta. El fiscal asignado para resolver el caso\, decide trasladarse a El Caimán\, el pueblo de Candelaria. Allá espera atar los cabos sueltos pero se encuentra con historias fascinantes y desgarradoras de unas mujeres condenadas a servir en casa ajena.
URL:https://www.sophosenlinea.com/event/presentacion-libro-servirle-anabella-giracca/
LOCATION:Sophos Libreria\, 4ta Avenida 12-59 Zona 10 Plaza Fontabella 2do. nivel local 1D\, Guatemala City\, 01010\, Guatemala
ATTACH;FMTTYPE=image/jpeg:https://www.sophosenlinea.com/wp-content/uploads/2018/08/pexels-photo-277763.jpeg
END:VEVENT
BEGIN:VEVENT
DTSTART;TZID=America/Chicago:20180904T190000
DTEND;TZID=America/Chicago:20180904T210000
DTSTAMP:20260419T161544
CREATED:20180829T132921Z
LAST-MODIFIED:20180829T132945Z
UID:14791-1536087600-1536094800@www.sophosenlinea.com
SUMMARY:Concierto: Gabriel Fuentes (Grabación en vivo)
DESCRIPTION:Gabriel regresa a los escenarios luego de meses de ausencia tras el lanzamiento de su EP como solista. En su primer concierto grabado en vivo\, Gabriel nos contará las historias que lo condujeron a escribir las canciones de «Del Caos al Cosmos»\, además de presentar versiones preliminares de las canciones que estarán incluidas en su próximo álbum de estudio. \nGabriel Fuentes es un cancionista nacido en la Ciudad de Guatemala. Es el fundador y director de Sesión de Micros Abiertos (Guatemala)\, una plataforma dedicada a la difusión de sesiones acústicas de cantautores a nivel iberoamericano. Durante el 2017 lanzó un EP llamado «Del Caos al Cosmos» y actualmente se encuentra en la fase de composición de un nuevo álbum previsto para el 2019. \nLectores empedernidos: Entrada gratuita\nPúblico general: Q25 \nBanda:\nManuel Ruano — Percusión\nBoby Ceballos — Percusión\nFelipe Granados — Bajo\nIsabel Alarcón — Coros\nSilber García — Trompeta\nObed Rucal — Saxofón\nPablo León — Piano
URL:https://www.sophosenlinea.com/event/concierto-gabriel-fuentes-grabacion-vivo/
LOCATION:Sophos Libreria\, 4ta Avenida 12-59 Zona 10 Plaza Fontabella 2do. nivel local 1D\, Guatemala City\, 01010\, Guatemala
ATTACH;FMTTYPE=image/jpeg:https://www.sophosenlinea.com/wp-content/uploads/2018/08/gabriel-fuentes-si.jpg
END:VEVENT
BEGIN:VEVENT
DTSTART;TZID=America/Chicago:20180906T190000
DTEND;TZID=America/Chicago:20180906T210000
DTSTAMP:20260419T161544
CREATED:20180830T122436Z
LAST-MODIFIED:20180830T123232Z
UID:14816-1536260400-1536267600@www.sophosenlinea.com
SUMMARY:Presentación: Mi abuelo y el dictador. Por César Tejeda
DESCRIPTION:César Tejeda será uno de los autores que adornarán a SOPHOS durante la Semana de Guatemala con la presentación de su libro «Mi abuelo y el dictador»\nAcompaña: Inés Vielman \nSobre el libro:\nEn 1908\, el abuelo de César Tejeda\, Antonio Tejeda\, fue detenido por su supuesta complicidad en el intento de homicidio de Manuel Estrada Cabrera\, el sanguinario y supersticioso dictador de Guatemala. Antonio fue obligado a caminar los cuarenta y cinco kilómetros que separan a La Antigua de la Ciudad de Guatemala\, custodiado por un pelotón a caballo. Durante todo el trayecto\, fueron seguidos por una mujer con un bebé en brazos: era Victoria Fonseca\, la esposa de Antonio\, y en los pañales del bebé llevaba escondido un revólver. \nCésar Tejeda ha escuchado esta anécdota durante toda su vida y sabe que su vida está cifrada en ella. Se la han contado como un ejemplo de valentía\, por parte de su abuela remota\, sin embargo\, hay algo en el recuerdo de ese episodio que le parece injusto. Al querer desentrañar ese misterio\, modesto o fantasmal\, César Tejeda se verá obligado a convertirse en historiador de su desconcierto y novelista de un país tiranizado.
URL:https://www.sophosenlinea.com/event/presentacion-abuelo-dictador-cesar-tejeda/
LOCATION:Sophos Libreria\, 4ta Avenida 12-59 Zona 10 Plaza Fontabella 2do. nivel local 1D\, Guatemala City\, 01010\, Guatemala
ATTACH;FMTTYPE=image/jpeg:https://www.sophosenlinea.com/wp-content/uploads/2018/08/PRESENTACION_miabueloyeldictador-02-2.jpg
END:VEVENT
BEGIN:VEVENT
DTSTART;TZID=America/Chicago:20180910T190000
DTEND;TZID=America/Chicago:20180910T200000
DTSTAMP:20260419T161544
CREATED:20180908T102215Z
LAST-MODIFIED:20180908T102239Z
UID:14852-1536606000-1536609600@www.sophosenlinea.com
SUMMARY:Club de lectura: Morir de poesía
DESCRIPTION:En esta sesión del club de lectura se comentará el poemario «La extracción de la piedra de locura» de Alejandra Pizarnik\nModera: Ana Lucía Galicia y José Javier Gálvez \nSobre el libro:\nAlejandra Pizarnik nació en Buenos Aires en 1939 y en esa misma ciudad abandonó voluntariamente la vida en 1972\, y desde entonces ha pasado a ser una de las voces heterodoxas más representativas de la poesía en la lengua española. \n«Releo con frecuencia tus poemas y los doy a leer a otros y les tengo amor. Son lindos animales un poco crueles\, un poco neurasténicos y tiernos; son líndisimos animales: hay que alimentarlos y mimarlos; son preciosas fierecillas cubiertas de piel\, quizá una especie de chinchillas: hay que darles sangre de lujo y caricias. Tengo amor a tus poemas; querría que hicieras muchos y que tus poemas difundieran por todas partes el amor y el terror.
URL:https://www.sophosenlinea.com/event/club-lectura-morir-poesia-4/
LOCATION:Sophos Libreria\, 4ta Avenida 12-59 Zona 10 Plaza Fontabella 2do. nivel local 1D\, Guatemala City\, 01010\, Guatemala
ATTACH;FMTTYPE=image/jpeg:https://www.sophosenlinea.com/wp-content/uploads/2018/09/la-extracción-piedra-locura.jpg
END:VEVENT
BEGIN:VEVENT
DTSTART;TZID=America/Chicago:20180911T103000
DTEND;TZID=America/Chicago:20180911T123000
DTSTAMP:20260419T161544
CREATED:20180908T102817Z
LAST-MODIFIED:20180908T102817Z
UID:14856-1536661800-1536669000@www.sophosenlinea.com
SUMMARY:Club de lectura: Libros diálogo y café
DESCRIPTION:En esta reunión del club se comentará el libro » El librero de París y la princesa rusa» de Mary Ann Clark. \nSobre el libro:\nParís\, a comienzos de los años 60; donde se encuentran una noble de origen ruso alejada de su familia y un elegante librero del barrio judío\, del Marais. Ninguno de los dos es joven ya\, pero tampoco lo son los libros que ambos aman. ¿Ficción o realidad? Lo cierto es que\, en esta ocasión\, no importa la respuesta\, a pesar de que el virtuosismo de la narradora nos hace creer todo el tiempo que estamos ante un fragmento de realidad\, de su propia vida\, un capítulo más de su existencia. Por encima de cualquier intento de verosimilitud\, la verdad\, una suerte de verdad que resulta atemporal según avanzamos en la lectura\, y que nos lleva incluso hasta el pasado más remoto\, se impone en cada página de esta extraordinaria novela corta. Como el amor al misterio y a la belleza\, a toda clase de belleza.
URL:https://www.sophosenlinea.com/event/club-lectura-libros-dialogo-cafe-3/
LOCATION:Sophos Libreria\, 4ta Avenida 12-59 Zona 10 Plaza Fontabella 2do. nivel local 1D\, Guatemala City\, 01010\, Guatemala
ATTACH;FMTTYPE=image/jpeg:https://www.sophosenlinea.com/wp-content/uploads/2018/09/EL-LIBRERO-de-pa.jpg
END:VEVENT
BEGIN:VEVENT
DTSTART;TZID=America/Chicago:20180911T190000
DTEND;TZID=America/Chicago:20180911T210000
DTSTAMP:20260419T161544
CREATED:20180908T103144Z
LAST-MODIFIED:20180908T122720Z
UID:14859-1536692400-1536699600@www.sophosenlinea.com
SUMMARY:Conferencia: Derechos de autor y derechos conexos por Max Araujo
DESCRIPTION:Max Araujo\, abogado y notario\, escritor\, gestor cultural\, estudioso de la legislación cultural y experto en el Derecho de Autor y Derechos Conexos\, impartirá esta conferencia para todo público. \nLectores empedernidos: Entrada gratis.\nPúblico en general: Q25. \nSobre la conferencia: \nToda persona debe conocer de propiedad intelectual. Esta le genera derechos y obligaciones y está ligada a su cotidianidad\, en lo que consume\, lo que produce\, lo que trabaja\, lo que usa\, y en lo que compra y vende. \nLos derechos de autor y los derechos conexos son parte de esa propiedad intelectual\, y se refieren a los derechos de los creadores y de los intérpretes y ejecutantes\, principalmente de aquellos que conocemos como escritores\, pintores\, teatristas\, compositores y artistas en general. \nNo se pueden usar\, ni reproducir\, ni comercializar los productos protegidos por el Derecho de Autor y Derechos Conexos sin la autorización de sus creadores\, salvo las excepciones de ley\, tampoco modificarse o destruirse. La ley sanciona estos hechos con penas de prisión y con penas pecuniarias.\nEs por ello que toda persona debe conocer de estos derechos: de su protección\, de sus limitaciones\, de sus excepciones y de su legislación.
URL:https://www.sophosenlinea.com/event/conferencia-derechos-autor-derechos-conexos-max-araujo/
LOCATION:Sophos Libreria\, 4ta Avenida 12-59 Zona 10 Plaza Fontabella 2do. nivel local 1D\, Guatemala City\, 01010\, Guatemala
ATTACH;FMTTYPE=image/jpeg:https://www.sophosenlinea.com/wp-content/uploads/2018/09/CONFERENCIA_MaxAraujo-02.jpg
END:VEVENT
BEGIN:VEVENT
DTSTART;TZID=America/Chicago:20180924T190000
DTEND;TZID=America/Chicago:20180924T200000
DTSTAMP:20260419T161544
CREATED:20180920T071037Z
LAST-MODIFIED:20180924T100807Z
UID:14926-1537815600-1537819200@www.sophosenlinea.com
SUMMARY:Conferencia ¿Hay censura en Guatemala?
DESCRIPTION:Como parte de la Semana de los libros prohibidos\, Raúl Figueroa Sarti fundador y director de F&G Editores y presidente de la Asociación Gremial de Editores de Guatemala\, explicará cómo se ha desarrollado la censura en Guatemala y compartirá algunos libros que han sido escondidos y castigados aún en nuestros tiempos. \nEntrada gratuita \nRaúl Figueroa Sarti: \nEditor\, fundador y director de F&G Editores. Editor de dos prestigiosas ediciones del Código penal y Procesal penal de Guatemala. Fundador y presidente de la Asociación Gremial de Editores de Guatemala.
URL:https://www.sophosenlinea.com/event/conferencia-censura-guatemala/
LOCATION:Sophos Libreria\, 4ta Avenida 12-59 Zona 10 Plaza Fontabella 2do. nivel local 1D\, Guatemala City\, 01010\, Guatemala
ATTACH;FMTTYPE=image/jpeg:https://www.sophosenlinea.com/wp-content/uploads/2018/09/libros-prohibidos-literatura-sexualidad-y-censura_evento-FB-02.jpg
END:VEVENT
BEGIN:VEVENT
DTSTART;TZID=America/Chicago:20180926T190000
DTEND;TZID=America/Chicago:20180926T200000
DTSTAMP:20260419T161544
CREATED:20180920T074538Z
LAST-MODIFIED:20180924T100744Z
UID:14932-1537988400-1537992000@www.sophosenlinea.com
SUMMARY:Conferencia: Literatura\, sexualidad y censura
DESCRIPTION:La autora guatemalteca Denise Phé-Funchal acompañada de Nicté Serra compartirán con los asistentes acerca de los protagonistas de la censura\, sus motivos\, y las consecuencias que ha tenido la prohibición de la sexualidad en el desarrollo de las culturas. \nEntrada gratuita \nDenise Phé-Funchal:\n(Guatemala\, 1977) Escritora\, socióloga y docente universitaria. Ha publicado las novelas Ana sonríe (F&G Editores\, 2015)\, La habitación de la memoria (Alfaguara\, 2015) y Las Flores(F&G Editores\, 2007)\, el poemario Manual del Mundo Paraíso (Catafixia Editores\, 2010)\, y los libros de cuentos Sala de estar (Óscar de León\, 2017) y Buenas Costumbres (F&G Editores\, 2011). Algunos de sus cuentos y poemas han sido publicados en antologías y revistas en Guatemala\, Argentina\, El Salvador\, Nicaragua\, Estados Unidos\, México\, España\, Italia\, Perú y Alemania. \nNicté Serra:\nNicté nació en la ciudad de Guatemala en 1969\, es licenciada en Administración de Empresas por la Universidad Francisco Marroquín. Y se define como una lectora absolutamente empedernida. Divide su tiempo entre su trabajo como directora de finanzas en un grupo empresarial\, su familia\, la lectura y la escritura Actualmente es colaboradora editorial de la revista Look\, bloguera permanente de Relatogt\, colaboradora en la publicación digital La Reglagt y bloguera independiente. Próximamente colaborará también en LaRevista de Sophos.
URL:https://www.sophosenlinea.com/event/conferencia-literatura-sexualidad-censura/
LOCATION:Sophos Libreria\, 4ta Avenida 12-59 Zona 10 Plaza Fontabella 2do. nivel local 1D\, Guatemala City\, 01010\, Guatemala
ATTACH;FMTTYPE=image/jpeg:https://www.sophosenlinea.com/wp-content/uploads/2018/09/censura_2_eventofb-01.jpg
END:VEVENT
END:VCALENDAR