BEGIN:VCALENDAR
VERSION:2.0
PRODID:-//Sophos - ECPv6.15.17.1//NONSGML v1.0//EN
CALSCALE:GREGORIAN
METHOD:PUBLISH
X-ORIGINAL-URL:https://www.sophosenlinea.com
X-WR-CALDESC:Eventos para Sophos
REFRESH-INTERVAL;VALUE=DURATION:PT1H
X-Robots-Tag:noindex
X-PUBLISHED-TTL:PT1H
BEGIN:VTIMEZONE
TZID:America/Chicago
BEGIN:DAYLIGHT
TZOFFSETFROM:-0600
TZOFFSETTO:-0500
TZNAME:CDT
DTSTART:20170312T080000
END:DAYLIGHT
BEGIN:STANDARD
TZOFFSETFROM:-0500
TZOFFSETTO:-0600
TZNAME:CST
DTSTART:20171105T070000
END:STANDARD
BEGIN:DAYLIGHT
TZOFFSETFROM:-0600
TZOFFSETTO:-0500
TZNAME:CDT
DTSTART:20180311T080000
END:DAYLIGHT
BEGIN:STANDARD
TZOFFSETFROM:-0500
TZOFFSETTO:-0600
TZNAME:CST
DTSTART:20181104T070000
END:STANDARD
BEGIN:DAYLIGHT
TZOFFSETFROM:-0600
TZOFFSETTO:-0500
TZNAME:CDT
DTSTART:20190310T080000
END:DAYLIGHT
BEGIN:STANDARD
TZOFFSETFROM:-0500
TZOFFSETTO:-0600
TZNAME:CST
DTSTART:20191103T070000
END:STANDARD
END:VTIMEZONE
BEGIN:VEVENT
DTSTART;TZID=America/Chicago:20180804T160000
DTEND;TZID=America/Chicago:20180804T170000
DTSTAMP:20260419T144512
CREATED:20180730T142253Z
LAST-MODIFIED:20180730T142328Z
UID:14537-1533398400-1533402000@www.sophosenlinea.com
SUMMARY:Trivia de los 3 magos
DESCRIPTION:Está bien ser audaz con la varita ¿pero qué hay del conocimiento? ¡Pon a prueba todo lo que sabes como Potterhead y participa en nuestra Trivia el sábado 4 de Agosto para ganar mágicos premios! Para participar necesitas inscribirte y colocar tu nombre en el Cáliz de Fuego en nuestra librería. Las inscripciones serán del lunes 30 de julio al viernes 3 de agosto\, ¡no te quedes sin cupo! \nQ 25.00 \n¡Habrá premio con artículos y libros de Harry Potter!
URL:https://www.sophosenlinea.com/event/trivia-los-3-magos/
LOCATION:Sophos Libreria\, 4ta Avenida 12-59 Zona 10 Plaza Fontabella 2do. nivel local 1D\, Guatemala City\, 01010\, Guatemala
ATTACH;FMTTYPE=image/jpeg:https://www.sophosenlinea.com/wp-content/uploads/2018/07/TORNEO_TRES_MAGOS-34-1.jpg
END:VEVENT
BEGIN:VEVENT
DTSTART;TZID=America/Chicago:20180806T190000
DTEND;TZID=America/Chicago:20180806T210000
DTSTAMP:20260419T144512
CREATED:20180730T141307Z
LAST-MODIFIED:20180730T141307Z
UID:14534-1533582000-1533589200@www.sophosenlinea.com
SUMMARY:Problemas de la conducta y emociones en el niño normal
DESCRIPTION:Problemas de la Conducta y Emociones en el Niño Normal es un libro que nació conceptualmente desde que Editorial Trillas publicó en 1987 la primera edición de la obra Conductas Problema en el Niño Normal. Muchas personas insistieron en un libro de continuación\, pero fue hasta diez años después\, a sugerencia de la editora Priscila Harfush de Editorial Trillas\, que la obra tomó verdadera formalidad. La relación de amistad de Guido Aguilar con importantes psicólogos iberoamericanos permitió una interesante selección de temas y autores\, cuya formalidad y madurez se reflejan en este libro. \nSobre el autor:\nGuido G. Aguilar Schinini \nPsicólogo clínico nacido en Guatemala\, estudió en la Universidad Católica boliviana y se especializó en Nueva York en Medicina Conductual\, autor de 7 libros y más de 60 investigaciones científicas publicadas en Norte\, Centro\, Sudamérica y Europa. Es y ha sido miembro varias asociaciones internacionales de psicología y del consejo editorial de varias revistas científicas\, así como del Congreso Mundial de Terapias Conductuales. Ha organizado y participado en seminarios.
URL:https://www.sophosenlinea.com/event/problemas-la-conducta-emociones-nino-normal/
LOCATION:Sophos Libreria\, 4ta Avenida 12-59 Zona 10 Plaza Fontabella 2do. nivel local 1D\, Guatemala City\, 01010\, Guatemala
ATTACH;FMTTYPE=image/jpeg:https://www.sophosenlinea.com/wp-content/uploads/2018/07/presentacion_conductas_-01.jpg
END:VEVENT
BEGIN:VEVENT
DTSTART;TZID=America/Chicago:20180830T190000
DTEND;TZID=America/Chicago:20180830T210000
DTSTAMP:20260419T144513
CREATED:20180829T131928Z
LAST-MODIFIED:20180829T131928Z
UID:14780-1535655600-1535662800@www.sophosenlinea.com
SUMMARY:Presentación de libro: The Fantastic Elastic Brain
DESCRIPTION:Betsy Schooley se retiró del aula pero su propio aprendizaje no terminó allí. En los años que siguieron ella se interesó mucho en el tema de la neuroplasticidad del cerebro\, en parte motivada e inspirada por su propio diagnóstico de ADHD. Aprendió que el cerebro es un órgano que tiene una gran capacidad de adaptarse\, y expuesto a las intervenciones correctas\, podía disparar nuevos caminos neurales y hacer nuevas conexiones. \nThe Fantastic Elastic Brain es la culminación de las enseñanzas de Betsy\, su desarrollo personal y las experiencias en su práctica privada. En los últimos catorce años ella ha estudiado y aprendido técnicas para aprovechar el poder de la plasticidad del cerebro\, y ha visto resultados increíbles. \nCosas maravillosas ha sucedido con los estudiantes con quien Schooley ha trabajado – y en este libro\, ella comparte los pasos a seguir para ayudar a aquellos niños que están batallando en la escuela. Repleto de ejercicios específicos\, ilustraciones e historias de estudiantes que han sido exitosos\, y basado en la idea que todo niño puede tener éxito en el ambiente educativo\, The Fantastic Elastic Brain es una guía para cambiar los cerebros – y las vidas!- de los estudiantes para bien. \nPara estudiantes de cualquier edad que están batallando con ADHD\, problemas de aprendizaje\, retos emocionales y/o los que no están logrando su potencial\, este libro puede ser un verdadero elemento de cambio para ellos y sus familias. \nSobre la autora: \nBetsy Schooley es la fundadora y directora de Brain Ways\, un programa personalizado de neuroplasticidad que consiste en ejercicios diseñados para estimular los nuevos caminos neurales y neuronales del alumno. Basado en el concepto que las neuronas que se estimulan juntas\, permanecen juntas\, Brain Ways es el resultado de la inspiración y deseo de Betsy de encontrar una manera de ayudar a estudiantes que batallan con problemas de aprendizaje en el entorno de un salón de escuela tradicional.
URL:https://www.sophosenlinea.com/event/presentacion-libro-the-fantastic-elastic-brain/
LOCATION:Sophos Libreria\, 4ta Avenida 12-59 Zona 10 Plaza Fontabella 2do. nivel local 1D\, Guatemala City\, 01010\, Guatemala
ATTACH;FMTTYPE=image/jpeg:https://www.sophosenlinea.com/wp-content/uploads/2018/08/presentacion_fantastic_elastic_brain-02.jpg
END:VEVENT
END:VCALENDAR