BEGIN:VCALENDAR
VERSION:2.0
PRODID:-//Sophos - ECPv6.15.17.1//NONSGML v1.0//EN
CALSCALE:GREGORIAN
METHOD:PUBLISH
X-ORIGINAL-URL:https://www.sophosenlinea.com
X-WR-CALDESC:Eventos para Sophos
REFRESH-INTERVAL;VALUE=DURATION:PT1H
X-Robots-Tag:noindex
X-PUBLISHED-TTL:PT1H
BEGIN:VTIMEZONE
TZID:America/Chicago
BEGIN:DAYLIGHT
TZOFFSETFROM:-0600
TZOFFSETTO:-0500
TZNAME:CDT
DTSTART:20160313T080000
END:DAYLIGHT
BEGIN:STANDARD
TZOFFSETFROM:-0500
TZOFFSETTO:-0600
TZNAME:CST
DTSTART:20161106T070000
END:STANDARD
BEGIN:DAYLIGHT
TZOFFSETFROM:-0600
TZOFFSETTO:-0500
TZNAME:CDT
DTSTART:20170312T080000
END:DAYLIGHT
BEGIN:STANDARD
TZOFFSETFROM:-0500
TZOFFSETTO:-0600
TZNAME:CST
DTSTART:20171105T070000
END:STANDARD
BEGIN:DAYLIGHT
TZOFFSETFROM:-0600
TZOFFSETTO:-0500
TZNAME:CDT
DTSTART:20180311T080000
END:DAYLIGHT
BEGIN:STANDARD
TZOFFSETFROM:-0500
TZOFFSETTO:-0600
TZNAME:CST
DTSTART:20181104T070000
END:STANDARD
END:VTIMEZONE
BEGIN:VEVENT
DTSTART;TZID=America/Chicago:20170202T170000
DTEND;TZID=America/Chicago:20170202T210000
DTSTAMP:20260419T174042
CREATED:20170124T150028Z
LAST-MODIFIED:20170201T185416Z
UID:539-1486054800-1486069200@www.sophosenlinea.com
SUMMARY:Harry Potter Book Night en SOPHOS
DESCRIPTION:Los profesores de Hogwarts se complacen en invitarte este jueves 2 de febrero a ser parte de una noche llena de magia. Tendremos clases de animales fantásticos\, pociones\, adivinación\, concurso de disfraces y más.\nLa #HarryPotterBookNight es la noche en la que conmemoramos esa historia que tanto amamos.\nJuro solemnemente que mis intenciones no son buenas….\n¡No faltes!
URL:https://www.sophosenlinea.com/event/harry-potter-book-night-en-sophos/
LOCATION:Sophos Libreria\, 4ta Avenida 12-59 Zona 10 Plaza Fontabella 2do. nivel local 1D\, Guatemala City\, 01010\, Guatemala
ATTACH;FMTTYPE=image/jpeg:https://www.sophosenlinea.com/wp-content/uploads/2017/01/a1b87b93d164f4f5541aa038c1f30c56.jpg
END:VEVENT
BEGIN:VEVENT
DTSTART;TZID=America/Chicago:20170207T190000
DTEND;TZID=America/Chicago:20170207T210000
DTSTAMP:20260419T174042
CREATED:20170201T185416Z
LAST-MODIFIED:20170208T113111Z
UID:551-1486494000-1486501200@www.sophosenlinea.com
SUMMARY:Paseos Nocturnos: Vida y Obra de Charles Dickens
DESCRIPTION:Lectores Empedernidos gratis\nPúblico en general Q 25 \nEn coincidencia con el natalicio del escritor inglés Charles Dickens (7 de Febrero de 1812) haremos un recorrido por la vida y obra del autor\, quien con gran interés en los problemas sociales que afrontó Londres en plena revolución industrial\, la pobreza de la clase obrera y su interés en el bienestar de la persona\, logró retratar como muy pocos la realidad social de su época y experiencia.\nLe conoceremos como persona y como autor\, sus bocetos\, novelas\, ensayos y memorias. Una oportunidad para quienes no lo conocen\, y también para sus fieles seguidores. \nDiego Calderón\nEstudiante con pensum cerrado en la licenciatura en Ciencias Jurídicas y Sociales de la Universidad Mariano Gálvez de Guatemala. Fanático de la lectura\, librero\, humanista\, apasionado por la historia\, y autoproclamado anglofílico con ferviente aprecio por la obra de Dickens.
URL:https://www.sophosenlinea.com/event/paseos-nocturnos-vida-y-obra-de-charles-dickens/
LOCATION:Sophos Libreria\, 4ta Avenida 12-59 Zona 10 Plaza Fontabella 2do. nivel local 1D\, Guatemala City\, 01010\, Guatemala
ATTACH;FMTTYPE=image/jpeg:https://www.sophosenlinea.com/wp-content/uploads/2017/02/e43b46c28fb15d25b3bb558383aeba65.jpg
END:VEVENT
BEGIN:VEVENT
DTSTART;TZID=America/Chicago:20170208T103000
DTEND;TZID=America/Chicago:20170208T113000
DTSTAMP:20260419T174042
CREATED:20170208T113112Z
LAST-MODIFIED:20170208T113112Z
UID:558-1486549800-1486553400@www.sophosenlinea.com
SUMMARY:Club de lectura Libros diálogo y café\, Reunión introductoria
DESCRIPTION:Actividad gratuita para todo público\n10% de descuento en las lecturas programadas para el club. \nModera Mirna de Gutiérrez y Cristina Barillas \nLa lectura es un placer solitario que por ninguna razón debe justificarse; sin embargo\, compartir en una agradable tertulia las emociones y sentimientos despertados es suficiente razón para formar parte de un grupo cuya razón de ser son los libros. \nEn el Club de lectura LIBROS\, DIÁLOGO Y CAFÉ proponemos\, para este nuevo año\, novelas de temas tan variados como la nacionalidad de sus autores\, pero que fueron seleccionadas por múltiples razones. Una de ellas\, haber tocado nuestro corazón.
URL:https://www.sophosenlinea.com/event/club-de-lectura-libros-dialogo-y-cafe-reunion-introductoria/
LOCATION:Sophos Libreria\, 4ta Avenida 12-59 Zona 10 Plaza Fontabella 2do. nivel local 1D\, Guatemala City\, 01010\, Guatemala
ATTACH;FMTTYPE=image/jpeg:https://www.sophosenlinea.com/wp-content/uploads/2017/02/55ecffb4a67b4e44aa86fdcf7563d5f1.jpg
END:VEVENT
BEGIN:VEVENT
DTSTART;TZID=America/Chicago:20170208T190000
DTEND;TZID=America/Chicago:20170208T210000
DTSTAMP:20260419T174042
CREATED:20170201T185417Z
LAST-MODIFIED:20170201T185417Z
UID:553-1486580400-1486587600@www.sophosenlinea.com
SUMMARY:El molino del oso II de Tito Bassi
DESCRIPTION:“Me llamo Ludmilla y\, a causa de un fabuloso delirio\, terminé en un viaje inesperado\, atravesando el océano Pacífico. Las cosas que uno ve… las cosas que uno oye. Dos parejas y Alfredo —un hombre solitario\, afiebrado de paludismo— se lanzaron a la mar buscando el placer de la navegación y unas islas lejanas\, hasta que el encierro dentro del velero\, la enfermedad y los celos\, acabaron por soltarles las amarras de la cordura y romper los cabos de la amistad y del amor. Alfredo\, mi solitario Alfredo… deleitosamente intoxicado por los vapores de la cannabis y alucinando por la fiebre\, encontró su destino en el paraíso\, en esas mismas tierras donde Gauguin había descubierto el suyo. Todo gracias a un viejo amigo\, José Hutchinson\, quien anhelaba romper la estela del horizonte con su velero\, el New Rochelle Star. Alfredo puede explicarles algo de lo que pasó\, y Antonio Ferrari\, el aventurero de El molino del oso\, les contará el resto de la historia. En cuanto a mí… a mí no me están escuchando; mi voz está en su imaginación”.
URL:https://www.sophosenlinea.com/event/el-molino-del-oso-ii-de-tito-bassi/
LOCATION:Sophos Libreria\, 4ta Avenida 12-59 Zona 10 Plaza Fontabella 2do. nivel local 1D\, Guatemala City\, 01010\, Guatemala
ATTACH;FMTTYPE=image/jpeg:https://www.sophosenlinea.com/wp-content/uploads/2017/02/66c75b96bc6dcb7a0cdbc2d5032865c4.jpg
END:VEVENT
BEGIN:VEVENT
DTSTART;TZID=America/Chicago:20170211T163000
DTEND;TZID=America/Chicago:20170211T173000
DTSTAMP:20260419T174042
CREATED:20170208T113113Z
LAST-MODIFIED:20170209T131450Z
UID:560-1486830600-1486834200@www.sophosenlinea.com
SUMMARY:Club de lectura: Comelibros
DESCRIPTION:A cargo de: Niky Moliviatis\nCada segundo sábado del mes\nJóvenes de 13 a 18 años.\n10% de descuento en los libros del club. \n“…pareces perfecta. Lo único que te falta es ser perfecta”\nLa ficción es parte de lo que somos y lo que vivimos a diario. En esta sesión estaremos hablando de aquellos libros de ficción que cambiaron y marcaron una etapa de nuestras vidas. \nDejamos de creer en la realidad para introducirnos al mundo de los libros. \nNiky Moliviatis\nEscritora guatemalteca con más de 20 mil seguidores en Wattpad\, apasionada por la literatura juvenil. Tiene un exceso de imaginación y un Crush eterno por los hermanos Maddox. La mitad del tiempo cree que es Cazadora de sombras\, y la otra mitad librera en SOPHOS.\nEstudia una maestría en Imagen pública. Le gusta la producción cinematográfica\, la fotografía y la actuación.
URL:https://www.sophosenlinea.com/event/club-de-lectura-comelibros-2/
LOCATION:Sophos Libreria\, 4ta Avenida 12-59 Zona 10 Plaza Fontabella 2do. nivel local 1D\, Guatemala City\, 01010\, Guatemala
ATTACH;FMTTYPE=image/jpeg:https://www.sophosenlinea.com/wp-content/uploads/2017/02/4b90286d51d06c115cdb5bf7273d51c6.jpg
END:VEVENT
BEGIN:VEVENT
DTSTART;TZID=America/Chicago:20170214T190000
DTEND;TZID=America/Chicago:20170214T210000
DTSTAMP:20260419T174042
CREATED:20170208T113113Z
LAST-MODIFIED:20170209T131450Z
UID:562-1487098800-1487106000@www.sophosenlinea.com
SUMMARY:Querer quedarse queriendo irse: El laberinto del amor romántico
DESCRIPTION:Lectura de Poesía a cargo de Andrés Quezada\nActividad gratuita para Lectores Empedernidos\nPúblico en general Q 25\nIncluye copa de vino \nLa condena a la sensibilidad como punto de partida. Poetas locales\, malditos\, románticos y trascendentalistas confluirán en un espacio de diálogo. Ezra Pound\, Pizarnik\, Proust\, Verlaine\, Baudelaire\, Octavio Paz\, Goethe leídos en voz de quien regresa a ellos como quien recuerda los laberintos que alguna vez fueron calurosos refugios. \nAndres Quezada\nLicenciado en Letras y Filosofía por la Universidad Rafael Landívar. Su tesis “Análisis comparativo de dos novelas de formación guatemaltecas” recibió mención honorífica. Escribe para el diario digital Nómada. Condenado a la sensibilidad. Imprudente\, ridículo y errático.
URL:https://www.sophosenlinea.com/event/querer-quedarse-queriendo-irse-el-laberinto-del-amor-romantico/
LOCATION:Sophos Libreria\, 4ta Avenida 12-59 Zona 10 Plaza Fontabella 2do. nivel local 1D\, Guatemala City\, 01010\, Guatemala
ATTACH;FMTTYPE=image/jpeg:https://www.sophosenlinea.com/wp-content/uploads/2017/02/648cf883ddc5df5e95c4d02ddfc31082.jpg
END:VEVENT
BEGIN:VEVENT
DTSTART;TZID=America/Chicago:20170215T103000
DTEND;TZID=America/Chicago:20170215T113000
DTSTAMP:20260419T174042
CREATED:20170208T113114Z
LAST-MODIFIED:20170209T131450Z
UID:564-1487154600-1487158200@www.sophosenlinea.com
SUMMARY:Reunión introductoria
DESCRIPTION:A cargo de Julia Helena Bermúdez\nActividad gratuita para todo público\n10% de descuento en las lecturas programadas \nA diario recibimos noticias de todas partes del mundo que hablan de inmigración. Antes de opinar debemos informarnos responsablemente. Millones de seres humanos están viviendo situaciones complicadas tratando de adaptarse a nuevos lugares\, de encontrar oportunidades y muchas veces\, apenas\, de conseguir un lugar más seguro para vivir.  \nLa literatura juega un papel importante en el tema de inmigración. Cada vez son más las novelas que abordan de cerca las experiencias vividas por personas que se vieron obligadas a abandonar su país de origen debido a la guerra\, a la persecución política\, a la inseguridad social o económica. Éstas pueden aportar mucho al enriquecer nuestro criterio y ayudar a que nos sensibilicemos después de conocer de cerca las historias de quienes vivieron la experiencia. La migración implica cambios sociales\, emocionales y culturales que no se pueden ignorar.  \nEsta vez\, los invitamos a leer relatos que reflejan experiencias de exilio\, travesía y adaptación. Puede ser que nos ayuden a romper estereotipos y nos permitan espacios de reflexión. \nJulia Helena Bermúdez\nMaestra de educación pre-primaria\, ama la lectura y cree fielmente en que el amor por ésta debe fomentarse desde los primeros años de vida\, por lo que en 2014 publica el cuento para niños “Con luz propia”.\nTrabajó en una biblioteca escolar por cinco años. Motivó y moderó clubes de lectura para las jóvenes. Además implementó varias actividades que fomentaron el uso de los libros como parte fundamental para su formación integral.  \nEn Sophos ha acompañado los siguientes clubes de lectura: «Érase una vez…» en 2014.  «Los héroes anónimos de la guerra» y «Entre el tiempo y las palabras» en 2015. “Letras cercanas” en 2016.»
URL:https://www.sophosenlinea.com/event/reunion-introductoria/
LOCATION:Sophos Libreria\, 4ta Avenida 12-59 Zona 10 Plaza Fontabella 2do. nivel local 1D\, Guatemala City\, 01010\, Guatemala
ATTACH;FMTTYPE=image/jpeg:https://www.sophosenlinea.com/wp-content/uploads/2017/02/ed7f2fc2704ce408ca491b8d77e7f9fe.jpg
END:VEVENT
BEGIN:VEVENT
DTSTART;TZID=America/Chicago:20170228T183000
DTEND;TZID=America/Chicago:20170228T203000
DTSTAMP:20260419T174042
CREATED:20170209T131451Z
LAST-MODIFIED:20170605T123031Z
UID:595-1488306600-1488313800@www.sophosenlinea.com
SUMMARY:¿Hasta dónde el pasado afecta nuestro presente?
DESCRIPTION:6 sesiones\nLos martes de 18:30 a 20:30 horas.\nInicia el 28 de febrero\n(28 de febrero; 7\, 14\, 21\, 28 de marzo y 4 de abril)   \nInversión Q 690\nQ 590 si paga antes del 16 de febrero\nInscríbase http://bit.ly/CursosYTalleresEnSOPHOS012017  \nDescripción\nUna introducción a la antropología histórica\nQuizás hemos escuchado razonamientos como el siguiente: “la historia no sirve para nada”\, “la historia es aburrida”\, “el pasado no importa\, lo que importa es el futuro”. \nTodas ellas son expresiones que escuchamos en nuestro medio por medio de familiares y personas cercanas con\, expresiones que quizás tengan cierta razón\, pero también cierto grado de ignorancia. Veamos dos situaciones hipotéticas: primera\, cuando una persona enfrenta una enfermedad crónica o infecciosa\, lo primero que se busca es la historia de la persona y su historial clínico para poder comprender las causas de tal enfermedad. Segunda\, si sucede lo que se llama un desastre natural o se reconocen cambios en la temperatura global\, es fundamental para empezar a comprender las causas de tales hechos\, conocer la historia de la tierra y del clima.  \nEl propósito del curso es poder dar una introducción a las formas en que podemos conectar el pasado con nuestro presente\, tanto en casos que aparentemente no están conectados con nosotros como los que sí.\nPara alcanzar este propósito se implementarán métodos de enseñanza y aprendizaje tales como: exposiciones\, discusiones de lecturas y comentarios de videos. \nFelipe Girón\nApasionado de los libros. Antropólogo social por de-formación e investigador en ciencias sociales por vocación. Por los derroteros de la antropología cultural y de las ciencias sociales\, llegó a interesarse en la teoría política y en la dimensión política de la sociedad. Espera compartir este interés y esta pasión en este curso.
URL:https://www.sophosenlinea.com/event/hasta-donde-el-pasado-afecta-nuestro-presente/
LOCATION:Sophos Libreria\, 4ta Avenida 12-59 Zona 10 Plaza Fontabella 2do. nivel local 1D\, Guatemala City\, 01010\, Guatemala
ATTACH;FMTTYPE=image/jpeg:https://www.sophosenlinea.com/wp-content/uploads/2017/02/9a8fbc2365a486e5ad443cdec439c704.jpg
END:VEVENT
END:VCALENDAR