BEGIN:VCALENDAR
VERSION:2.0
PRODID:-//Sophos - ECPv6.15.20//NONSGML v1.0//EN
CALSCALE:GREGORIAN
METHOD:PUBLISH
X-WR-CALNAME:Sophos
X-ORIGINAL-URL:https://www.sophosenlinea.com
X-WR-CALDESC:Eventos para Sophos
REFRESH-INTERVAL;VALUE=DURATION:PT1H
X-Robots-Tag:noindex
X-PUBLISHED-TTL:PT1H
BEGIN:VTIMEZONE
TZID:Europe/Madrid
BEGIN:DAYLIGHT
TZOFFSETFROM:+0100
TZOFFSETTO:+0200
TZNAME:CEST
DTSTART:20250330T010000
END:DAYLIGHT
BEGIN:STANDARD
TZOFFSETFROM:+0200
TZOFFSETTO:+0100
TZNAME:CET
DTSTART:20251026T010000
END:STANDARD
BEGIN:DAYLIGHT
TZOFFSETFROM:+0100
TZOFFSETTO:+0200
TZNAME:CEST
DTSTART:20260329T010000
END:DAYLIGHT
BEGIN:STANDARD
TZOFFSETFROM:+0200
TZOFFSETTO:+0100
TZNAME:CET
DTSTART:20261025T010000
END:STANDARD
BEGIN:DAYLIGHT
TZOFFSETFROM:+0100
TZOFFSETTO:+0200
TZNAME:CEST
DTSTART:20270328T010000
END:DAYLIGHT
BEGIN:STANDARD
TZOFFSETFROM:+0200
TZOFFSETTO:+0100
TZNAME:CET
DTSTART:20271031T010000
END:STANDARD
END:VTIMEZONE
BEGIN:VEVENT
DTSTART;VALUE=DATE:20260420
DTEND;VALUE=DATE:20260427
DTSTAMP:20260423T021922
CREATED:20260411T044703Z
LAST-MODIFIED:20260411T044703Z
UID:35885-1776643200-1777247999@www.sophosenlinea.com
SUMMARY:De lector a lector: Una recomendación por otra
DESCRIPTION:Inauguramos la Semana del Libro con una dinámica colectiva de recomendaciones. En un pizarrón dentro de la librería encontrarás reseñas de libreros y lectores. La idea es simple: si tomas una recomendación\, deja otra a cambio.\nUna conversación abierta entre quienes saben que leer también es compartir.
URL:https://www.sophosenlinea.com/event/de-lector-a-lector-una-recomendacion-por-otra/
LOCATION:plaza fontabella
ATTACH;FMTTYPE=image/jpeg:https://www.sophosenlinea.com/wp-content/uploads/2026/04/Actividades-Semana-del-libro-editable-08.jpg
END:VEVENT
BEGIN:VEVENT
DTSTART;TZID=Europe/Madrid:20260423T180000
DTEND;TZID=Europe/Madrid:20260423T200000
DTSTAMP:20260423T021922
CREATED:20260411T044751Z
LAST-MODIFIED:20260416T230929Z
UID:35900-1776967200-1776974400@www.sophosenlinea.com
SUMMARY:Noche literaria – Ya no será
DESCRIPTION:La Noche Literaria es una experiencia previamente organizada para disfrutar de poesía y música en un ambiente cercano y contemplativo. Los asistentes podrán vivirla como público\, adquiriendo su espacio\, el cual incluye una mesa para dos personas con tabla de quesos\, jamones y dos copas de vino. \nEsto no es un espacio abierto de participación espontánea\, sino una curaduría pensada para ofrecer una experiencia completa. \nInscríbase aquí: https://docs.google.com/forms/d/e/1FAIpQLScUAsE8at_hCoiOUU4rqSsentSRoxz3bOLkOlY0dd0kXxnlqg/viewform
URL:https://www.sophosenlinea.com/event/noche-literaria-ya-no-sera/
ATTACH;FMTTYPE=image/jpeg:https://www.sophosenlinea.com/wp-content/uploads/2026/04/Actividades-Semana-del-libro-editable-12.jpg
END:VEVENT
END:VCALENDAR