BEGIN:VCALENDAR
VERSION:2.0
PRODID:-//Sophos - ECPv6.15.17.1//NONSGML v1.0//EN
CALSCALE:GREGORIAN
METHOD:PUBLISH
X-ORIGINAL-URL:https://www.sophosenlinea.com
X-WR-CALDESC:Eventos para Sophos
REFRESH-INTERVAL;VALUE=DURATION:PT1H
X-Robots-Tag:noindex
X-PUBLISHED-TTL:PT1H
BEGIN:VTIMEZONE
TZID:America/Chicago
BEGIN:DAYLIGHT
TZOFFSETFROM:-0600
TZOFFSETTO:-0500
TZNAME:CDT
DTSTART:20180311T080000
END:DAYLIGHT
BEGIN:STANDARD
TZOFFSETFROM:-0500
TZOFFSETTO:-0600
TZNAME:CST
DTSTART:20181104T070000
END:STANDARD
BEGIN:DAYLIGHT
TZOFFSETFROM:-0600
TZOFFSETTO:-0500
TZNAME:CDT
DTSTART:20190310T080000
END:DAYLIGHT
BEGIN:STANDARD
TZOFFSETFROM:-0500
TZOFFSETTO:-0600
TZNAME:CST
DTSTART:20191103T070000
END:STANDARD
BEGIN:DAYLIGHT
TZOFFSETFROM:-0600
TZOFFSETTO:-0500
TZNAME:CDT
DTSTART:20200308T080000
END:DAYLIGHT
BEGIN:STANDARD
TZOFFSETFROM:-0500
TZOFFSETTO:-0600
TZNAME:CST
DTSTART:20201101T070000
END:STANDARD
END:VTIMEZONE
BEGIN:VEVENT
DTSTART;TZID=America/Chicago:20190326T103000
DTEND;TZID=America/Chicago:20190326T123000
DTSTAMP:20260419T160027
CREATED:20190325T124352Z
LAST-MODIFIED:20190325T124352Z
UID:17304-1553596200-1553603400@www.sophosenlinea.com
SUMMARY:Club de lectura: Sueño americano\, una mirada literaria
DESCRIPTION:Realizaremos en el club un recorrido por algunas de lecturas más representativas sobre la vida de los inmigrantes que llegaron de distintos países y regiones del mundo: Centroamérica\, China\, Europa\, India\, Japón\, México\, Nigeria y Latinoamérica a vivir en los Estados Unidos de Norteamérica desde principios del Siglo XX hasta la actualidad\nEl cuarto martes de cada mes\nEsta primera reunión será introductoria\nMás información: https://bit.ly/2ThL7O3 \nModera: Toni Lampell\nTiene una Maestría en Educación Internacional y una Licenciatura en Ciencias Políticas y Administración Pública. Es lectora asidua y ha sido coordinadora de clubes de lectura en Uruguay\, Bolivia y El Salvador.
URL:https://www.sophosenlinea.com/event/club-lectura-sueno-americano-una-mirada-literaria/
LOCATION:Sophos Libreria\, 4ta Avenida 12-59 Zona 10 Plaza Fontabella 2do. nivel local 1D\, Guatemala City\, 01010\, Guatemala
ATTACH;FMTTYPE=image/jpeg:https://www.sophosenlinea.com/wp-content/uploads/2019/03/sueño-americano.jpg
END:VEVENT
BEGIN:VEVENT
DTSTART;TZID=America/Chicago:20190326T190000
DTEND;TZID=America/Chicago:20190326T203000
DTSTAMP:20260419T160027
CREATED:20190325T131510Z
LAST-MODIFIED:20190325T131510Z
UID:17307-1553626800-1553632200@www.sophosenlinea.com
SUMMARY:Encuentro con lectores: Cristina Barillas y Roberto Girón
DESCRIPTION:El encuentro con lector es un evento que proponemos el cuarto martes de cada mes\, en donde algunos de nuestros más queridos lectores compartirán con el público los libros que más los han marcado.La idea es generar una conversación entre lectores\, entre amigos\, acompañados por una copa de vino\,\nAdemás\, de 18;00 a 21:00 horas\, los miembros del programa Lector Empedernido podrán llevarse el tercer libro gratis*\n*Aplica en el libro de menor valor.\nLectores empedernidos: Entrada gratuita\nPúblico general: Q25 \nLos lectores de este mes son: Cristina Barillas y Roberto Girón \nCristina Barillas\nLos libros han sido una constante en su vida. Desde pequeña significarían una fuente de placer\, conocimiento y encuentro. Posteriormente\, dedicó más de veinte años a la educación en los que la lectura y escritura fueron un elemento central en la formación de los estudiantes. Actualmente\, ya jubilada\, dedica su tiempo a la lectura voraz\, a la escritura como proyecto de aprendizaje y al diálogo en los clubes de lectura como enriquecimiento en comunidad. \nRoberto Girón\nNació en mayo de 1954. Después de titularse de bachiller en ciencias y letras en La Preparatoria\, estudió Medicina\, Arquitectura y Agronomía en la Usac y Técnico en Cultivos y Agronomía en la Url. Desde los 17 hasta los 55 años administró una finca agrícola\, pecuaria y forestal. Hace 9 años se convirtió en lector empedernido hasta la fecha.
URL:https://www.sophosenlinea.com/event/encuentro-lectores-cristina-barillas-roberto-giron/
LOCATION:Sophos Libreria\, 4ta Avenida 12-59 Zona 10 Plaza Fontabella 2do. nivel local 1D\, Guatemala City\, 01010\, Guatemala
ATTACH;FMTTYPE=image/jpeg:https://www.sophosenlinea.com/wp-content/uploads/2019/03/encuentro-lectores.jpg
END:VEVENT
BEGIN:VEVENT
DTSTART;TZID=America/Chicago:20190326T190000
DTEND;TZID=America/Chicago:20190326T203000
DTSTAMP:20260419T160027
CREATED:20190325T131650Z
LAST-MODIFIED:20190325T131650Z
UID:17310-1553626800-1553632200@www.sophosenlinea.com
SUMMARY:Presentación: Esta perra vida
DESCRIPTION:Edy Béhar presenta su más reciente libro «Esta perra vida»\nEntrada libre \nSobre el libro:\nAquí la vida en el escombro de todo lo que alguna vez fue edificado; la derrotada\, la que sucumbe y se rearma al ras de una luz que se agrieta\, porque los ojos de Edy Béhar son todos los nuestros; como muertos que brillan\, de calle en calle\, de poste en poste\, de banqueta en banqueta cantando desde la branquia -a la lid del ahogo-\, el coro más hermoso de todos: la vida que otras veces no es perra sino remanso\, sigilo y numen entre unos cuantos dedos que no se cansan de contarla nunca. \nSobre el autor:\nEdy Béhar\,\nNació en Guatemala en 1973 un once de noviembre\, según cuenta más adelante\, era domingo. Ha hecho casi de todo: pelar papas en un restaurante de comida rápida\, vender enciclopedias\, atender la recepción de un hotel\, técnico de computadoras\, anfitrión de bar\, mesero entre otras cosas. \nVeinte años de profesión como publicista lo llevaron a vivir en seis países y a trabajar incluso en el desarrollo de estrategias de comunicación política. De la escuela de redacción publicitaria hereda el lenguaje simple y directo. Luego de eso regresa a Guatemala buscando labrar ahora\, desde cero\, el oficio de escritor.
URL:https://www.sophosenlinea.com/event/presentacion-esta-perra-vida/
LOCATION:Sophos Libreria\, 4ta Avenida 12-59 Zona 10 Plaza Fontabella 2do. nivel local 1D\, Guatemala City\, 01010\, Guatemala
ATTACH;FMTTYPE=image/jpeg:https://www.sophosenlinea.com/wp-content/uploads/2019/03/esta-perra-vida.jpg
END:VEVENT
END:VCALENDAR