BEGIN:VCALENDAR
VERSION:2.0
PRODID:-//Sophos - ECPv6.15.17.1//NONSGML v1.0//EN
CALSCALE:GREGORIAN
METHOD:PUBLISH
X-WR-CALNAME:Sophos
X-ORIGINAL-URL:https://www.sophosenlinea.com
X-WR-CALDESC:Eventos para Sophos
REFRESH-INTERVAL;VALUE=DURATION:PT1H
X-Robots-Tag:noindex
X-PUBLISHED-TTL:PT1H
BEGIN:VTIMEZONE
TZID:America/Chicago
BEGIN:DAYLIGHT
TZOFFSETFROM:-0600
TZOFFSETTO:-0500
TZNAME:CDT
DTSTART:20180311T080000
END:DAYLIGHT
BEGIN:STANDARD
TZOFFSETFROM:-0500
TZOFFSETTO:-0600
TZNAME:CST
DTSTART:20181104T070000
END:STANDARD
BEGIN:DAYLIGHT
TZOFFSETFROM:-0600
TZOFFSETTO:-0500
TZNAME:CDT
DTSTART:20190310T080000
END:DAYLIGHT
BEGIN:STANDARD
TZOFFSETFROM:-0500
TZOFFSETTO:-0600
TZNAME:CST
DTSTART:20191103T070000
END:STANDARD
BEGIN:DAYLIGHT
TZOFFSETFROM:-0600
TZOFFSETTO:-0500
TZNAME:CDT
DTSTART:20200308T080000
END:DAYLIGHT
BEGIN:STANDARD
TZOFFSETFROM:-0500
TZOFFSETTO:-0600
TZNAME:CST
DTSTART:20201101T070000
END:STANDARD
END:VTIMEZONE
BEGIN:VEVENT
DTSTART;TZID=America/Chicago:20190119T110000
DTEND;TZID=America/Chicago:20190119T120000
DTSTAMP:20260419T192258
CREATED:20190109T144741Z
LAST-MODIFIED:20190109T145038Z
UID:15459-1547895600-1547899200@www.sophosenlinea.com
SUMMARY:Club de lectura para niños
DESCRIPTION:Un club de lectura para los más pequeños de la casa.\nRecomendado para niños y niñas de 4 a 11 años.\nEn esta reunión leeremos el libro «Cloe y la nube»\nModera: Marcela Morales\nEntrada: Q25\nInscripción aquí: https://bit.ly/2Q1dDgt \nSobre el libro \nCloe es una niña alegre y simpática a la que le encanta reír y pasarlo genial.\nUn día Cloe está jugando tan tranquila cuando de pronto. ¡Lluvia!\nUna nube perdida hará que Cloe se vista de investigadora e intente\nencontrar a la familia de Nube. ¡Acompáñanos a encontrar a su familia! \nSobre Marcela:\nMi nombre es Marcela Morales\, tengo 23 años. Y esta es mi historia… Desde pequeña uno de mis sueños más grandes de pequeña era ser maestra. Y fue una gran alegría cuando lo cumplí en el 2014\, crear proyectos\, manualidades\, inventar historias\, escribir libros e imaginar personajes en mi cabeza era parte de mí\, y por supuesto también fue parte de las tarjetas de cumpleaños de mi mamá. \nMe comencé a interesar por la lectura al comenzar secundaria. El primer libro que me atrapó seguirá siendo por siempre mi favorito y regreso a él para leer mis paginas favoritas de vez en cuando
URL:https://www.sophosenlinea.com/event/club-lectura-ninos/
LOCATION:Sophos Libreria\, 4ta Avenida 12-59 Zona 10 Plaza Fontabella 2do. nivel local 1D\, Guatemala City\, 01010\, Guatemala
ATTACH;FMTTYPE=image/jpeg:https://www.sophosenlinea.com/wp-content/uploads/2019/01/Club-de-lectura-niños-evento.jpg
END:VEVENT
END:VCALENDAR