BEGIN:VCALENDAR
VERSION:2.0
PRODID:-//Sophos - ECPv6.15.20//NONSGML v1.0//EN
CALSCALE:GREGORIAN
METHOD:PUBLISH
X-ORIGINAL-URL:https://www.sophosenlinea.com
X-WR-CALDESC:Eventos para Sophos
REFRESH-INTERVAL;VALUE=DURATION:PT1H
X-Robots-Tag:noindex
X-PUBLISHED-TTL:PT1H
BEGIN:VTIMEZONE
TZID:America/Chicago
BEGIN:DAYLIGHT
TZOFFSETFROM:-0600
TZOFFSETTO:-0500
TZNAME:CDT
DTSTART:20170312T080000
END:DAYLIGHT
BEGIN:STANDARD
TZOFFSETFROM:-0500
TZOFFSETTO:-0600
TZNAME:CST
DTSTART:20171105T070000
END:STANDARD
BEGIN:DAYLIGHT
TZOFFSETFROM:-0600
TZOFFSETTO:-0500
TZNAME:CDT
DTSTART:20180311T080000
END:DAYLIGHT
BEGIN:STANDARD
TZOFFSETFROM:-0500
TZOFFSETTO:-0600
TZNAME:CST
DTSTART:20181104T070000
END:STANDARD
BEGIN:DAYLIGHT
TZOFFSETFROM:-0600
TZOFFSETTO:-0500
TZNAME:CDT
DTSTART:20190310T080000
END:DAYLIGHT
BEGIN:STANDARD
TZOFFSETFROM:-0500
TZOFFSETTO:-0600
TZNAME:CST
DTSTART:20191103T070000
END:STANDARD
END:VTIMEZONE
BEGIN:VEVENT
DTSTART;TZID=America/Chicago:20181114T190000
DTEND;TZID=America/Chicago:20181114T200000
DTSTAMP:20260423T022110
CREATED:20181107T092233Z
LAST-MODIFIED:20181107T092233Z
UID:15202-1542222000-1542225600@www.sophosenlinea.com
SUMMARY:El recurso de lo literario y poético en el proceso creativo
DESCRIPTION:Como parte de la Semana del Arte en SOPHOS\, el artista Kevin Mérida impartirá una conferencia sobre cómo influye el recurso de lo literario y poético en el proceso creativo. Entrada gratis. \nDescripción:\nBorrasca del sueño\nEl litoral del delirio\nLa incertidumbre como un trazo que recrea este mapa que desconozco\, los colores como una certeza que me nombra\, las palabras entretejiéndose en múltiples imágenes que terminan donde la realidad desemboca como un laberinto tumultuoso\, lleno de formas indescifrables\, indecisas\, fragmentos de gritos\, manos temblorosas\, pájaros precipitándose ante el vuelo.\nDe mis sueños\, ahora solo quedan manchas\, porque he intentado dibujar sobre la noche\, pero mis sueños han sido demasiado rápidos para mis manos y mis manos son demasiadas lentas para dibujar un mundo sobre este mundo. Ahora solo me quedan mis palabras\, mis trazos como algo inamovible\, fijo.\nComo estos ojos ante el delirio. \nBiografía\nKevin Mérida\, Guatemala 1992.\nArtista visual egresado de la Escuela Nacional de Artes Plásticas “Rafael Rodríguez Padilla” y estudiante de Antropología en la Universidad de San Carlos de Guatemala\, ha recibido distintos talleres y cursos en diferentes academias de arte a nivel nacional. Desde el 2014 ha venido exponiendo en diferentes galerías en Guatemala y otros países. A veces silencio\, signo inventado de una ortografía mal pronunciada\, mueble construido en dilema\, una hoja\, un pájaro.
URL:https://www.sophosenlinea.com/event/recurso-lo-literario-poetico-proceso-creativo/
LOCATION:Sophos Libreria\, 4ta Avenida 12-59 Zona 10 Plaza Fontabella 2do. nivel local 1D\, Guatemala City\, 01010\, Guatemala
ATTACH;FMTTYPE=image/jpeg:https://www.sophosenlinea.com/wp-content/uploads/2018/11/El-recurso-de-lo-literario_evento-08-1-1.jpg
END:VEVENT
END:VCALENDAR