BEGIN:VCALENDAR
VERSION:2.0
PRODID:-//Sophos - ECPv6.15.20//NONSGML v1.0//EN
CALSCALE:GREGORIAN
METHOD:PUBLISH
X-WR-CALNAME:Sophos
X-ORIGINAL-URL:https://www.sophosenlinea.com
X-WR-CALDESC:Eventos para Sophos
REFRESH-INTERVAL;VALUE=DURATION:PT1H
X-Robots-Tag:noindex
X-PUBLISHED-TTL:PT1H
BEGIN:VTIMEZONE
TZID:America/Chicago
BEGIN:DAYLIGHT
TZOFFSETFROM:-0600
TZOFFSETTO:-0500
TZNAME:CDT
DTSTART:20170312T080000
END:DAYLIGHT
BEGIN:STANDARD
TZOFFSETFROM:-0500
TZOFFSETTO:-0600
TZNAME:CST
DTSTART:20171105T070000
END:STANDARD
BEGIN:DAYLIGHT
TZOFFSETFROM:-0600
TZOFFSETTO:-0500
TZNAME:CDT
DTSTART:20180311T080000
END:DAYLIGHT
BEGIN:STANDARD
TZOFFSETFROM:-0500
TZOFFSETTO:-0600
TZNAME:CST
DTSTART:20181104T070000
END:STANDARD
BEGIN:DAYLIGHT
TZOFFSETFROM:-0600
TZOFFSETTO:-0500
TZNAME:CDT
DTSTART:20190310T080000
END:DAYLIGHT
BEGIN:STANDARD
TZOFFSETFROM:-0500
TZOFFSETTO:-0600
TZNAME:CST
DTSTART:20191103T070000
END:STANDARD
END:VTIMEZONE
BEGIN:VEVENT
DTSTART;TZID=America/Chicago:20181113T190000
DTEND;TZID=America/Chicago:20181113T210000
DTSTAMP:20260423T041305
CREATED:20181031T130430Z
LAST-MODIFIED:20181031T130430Z
UID:15170-1542135600-1542142800@www.sophosenlinea.com
SUMMARY:Sophos: 20 años en 20 libros
DESCRIPTION:Durante los últimos 20 años\, una cantidad que pareciera infinita de títulos ha llegado a manos de los lectores de SOPHOS. Sin embargo\, hay un cierto número de títulos que han alcanzado a ocupar\, por razones diversas\, un espacio particularmente memorable en la historia de SOPHOS. Su fundadora\, Marilyn Pennington y Philippe Hunziker\, su hijo y Gerente General de la librería\, intentarán trazar las líneas de una historia de SOPHOS a partir de estos 20 libros (o veintipico\, vaya) que han marcado momentos importantes de sus vidas y de la vida de la librería. Con estos libros notables como guías de viaje (como debe ser)\, acompañémoslos en este viaje a los orígenes de SOPHOS\, y recorramos con ellos los momentos fuertes de esta librería que celebra\, con sus lectores\, 20 años de improbables aventuras. \nEntrada libre.
URL:https://www.sophosenlinea.com/event/sophos-20-anos-20-libros/
LOCATION:Sophos Libreria\, 4ta Avenida 12-59 Zona 10 Plaza Fontabella 2do. nivel local 1D\, Guatemala City\, 01010\, Guatemala
ATTACH;FMTTYPE=image/jpeg:https://www.sophosenlinea.com/wp-content/uploads/2018/10/20-años-20-libros_EVENTO-02.jpg
END:VEVENT
END:VCALENDAR