BEGIN:VCALENDAR
VERSION:2.0
PRODID:-//Sophos - ECPv6.15.17.1//NONSGML v1.0//EN
CALSCALE:GREGORIAN
METHOD:PUBLISH
X-WR-CALNAME:Sophos
X-ORIGINAL-URL:https://www.sophosenlinea.com
X-WR-CALDESC:Eventos para Sophos
REFRESH-INTERVAL;VALUE=DURATION:PT1H
X-Robots-Tag:noindex
X-PUBLISHED-TTL:PT1H
BEGIN:VTIMEZONE
TZID:America/Chicago
BEGIN:DAYLIGHT
TZOFFSETFROM:-0600
TZOFFSETTO:-0500
TZNAME:CDT
DTSTART:20170312T080000
END:DAYLIGHT
BEGIN:STANDARD
TZOFFSETFROM:-0500
TZOFFSETTO:-0600
TZNAME:CST
DTSTART:20171105T070000
END:STANDARD
BEGIN:DAYLIGHT
TZOFFSETFROM:-0600
TZOFFSETTO:-0500
TZNAME:CDT
DTSTART:20180311T080000
END:DAYLIGHT
BEGIN:STANDARD
TZOFFSETFROM:-0500
TZOFFSETTO:-0600
TZNAME:CST
DTSTART:20181104T070000
END:STANDARD
BEGIN:DAYLIGHT
TZOFFSETFROM:-0600
TZOFFSETTO:-0500
TZNAME:CDT
DTSTART:20190310T080000
END:DAYLIGHT
BEGIN:STANDARD
TZOFFSETFROM:-0500
TZOFFSETTO:-0600
TZNAME:CST
DTSTART:20191103T070000
END:STANDARD
END:VTIMEZONE
BEGIN:VEVENT
DTSTART;TZID=America/Chicago:20181103T110000
DTEND;TZID=America/Chicago:20181103T120000
DTSTAMP:20260419T194525
CREATED:20181031T131041Z
LAST-MODIFIED:20181031T131434Z
UID:15173-1541242800-1541246400@www.sophosenlinea.com
SUMMARY:Una mañana de robótica
DESCRIPTION:Esta actividad contará con niños participantes de la Academia de robótica Smart Spaces\, realizando exposiciones con la supervisión del equipo de Instructores. \nSimultáneamente\, habrá una conferencia para padres y madres llamada: «Participación de Guatemala en el concurso internacional «ZeroRobotics»\, organizado por el Massachusetts Institute of Technology (MIT) para la National Aeronautics and Space Administration (NASA). \nConferencista: Wendy Miranda\, representante para Guatemala.
URL:https://www.sophosenlinea.com/event/una-manana-robotica/
LOCATION:Sophos Libreria\, 4ta Avenida 12-59 Zona 10 Plaza Fontabella 2do. nivel local 1D\, Guatemala City\, 01010\, Guatemala
ATTACH;FMTTYPE=image/jpeg:https://www.sophosenlinea.com/wp-content/uploads/2018/10/Actividad-robotica-evento.jpg
END:VEVENT
END:VCALENDAR