BEGIN:VCALENDAR
VERSION:2.0
PRODID:-//Sophos - ECPv6.15.17.1//NONSGML v1.0//EN
CALSCALE:GREGORIAN
METHOD:PUBLISH
X-ORIGINAL-URL:https://www.sophosenlinea.com
X-WR-CALDESC:Eventos para Sophos
REFRESH-INTERVAL;VALUE=DURATION:PT1H
X-Robots-Tag:noindex
X-PUBLISHED-TTL:PT1H
BEGIN:VTIMEZONE
TZID:America/Chicago
BEGIN:DAYLIGHT
TZOFFSETFROM:-0600
TZOFFSETTO:-0500
TZNAME:CDT
DTSTART:20170312T080000
END:DAYLIGHT
BEGIN:STANDARD
TZOFFSETFROM:-0500
TZOFFSETTO:-0600
TZNAME:CST
DTSTART:20171105T070000
END:STANDARD
BEGIN:DAYLIGHT
TZOFFSETFROM:-0600
TZOFFSETTO:-0500
TZNAME:CDT
DTSTART:20180311T080000
END:DAYLIGHT
BEGIN:STANDARD
TZOFFSETFROM:-0500
TZOFFSETTO:-0600
TZNAME:CST
DTSTART:20181104T070000
END:STANDARD
BEGIN:DAYLIGHT
TZOFFSETFROM:-0600
TZOFFSETTO:-0500
TZNAME:CDT
DTSTART:20190310T080000
END:DAYLIGHT
BEGIN:STANDARD
TZOFFSETFROM:-0500
TZOFFSETTO:-0600
TZNAME:CST
DTSTART:20191103T070000
END:STANDARD
END:VTIMEZONE
BEGIN:VEVENT
DTSTART;TZID=America/Chicago:20180926T190000
DTEND;TZID=America/Chicago:20180926T200000
DTSTAMP:20260419T180346
CREATED:20180920T074538Z
LAST-MODIFIED:20180924T100744Z
UID:14932-1537988400-1537992000@www.sophosenlinea.com
SUMMARY:Conferencia: Literatura\, sexualidad y censura
DESCRIPTION:La autora guatemalteca Denise Phé-Funchal acompañada de Nicté Serra compartirán con los asistentes acerca de los protagonistas de la censura\, sus motivos\, y las consecuencias que ha tenido la prohibición de la sexualidad en el desarrollo de las culturas. \nEntrada gratuita \nDenise Phé-Funchal:\n(Guatemala\, 1977) Escritora\, socióloga y docente universitaria. Ha publicado las novelas Ana sonríe (F&G Editores\, 2015)\, La habitación de la memoria (Alfaguara\, 2015) y Las Flores(F&G Editores\, 2007)\, el poemario Manual del Mundo Paraíso (Catafixia Editores\, 2010)\, y los libros de cuentos Sala de estar (Óscar de León\, 2017) y Buenas Costumbres (F&G Editores\, 2011). Algunos de sus cuentos y poemas han sido publicados en antologías y revistas en Guatemala\, Argentina\, El Salvador\, Nicaragua\, Estados Unidos\, México\, España\, Italia\, Perú y Alemania. \nNicté Serra:\nNicté nació en la ciudad de Guatemala en 1969\, es licenciada en Administración de Empresas por la Universidad Francisco Marroquín. Y se define como una lectora absolutamente empedernida. Divide su tiempo entre su trabajo como directora de finanzas en un grupo empresarial\, su familia\, la lectura y la escritura Actualmente es colaboradora editorial de la revista Look\, bloguera permanente de Relatogt\, colaboradora en la publicación digital La Reglagt y bloguera independiente. Próximamente colaborará también en LaRevista de Sophos.
URL:https://www.sophosenlinea.com/event/conferencia-literatura-sexualidad-censura/
LOCATION:Sophos Libreria\, 4ta Avenida 12-59 Zona 10 Plaza Fontabella 2do. nivel local 1D\, Guatemala City\, 01010\, Guatemala
ATTACH;FMTTYPE=image/jpeg:https://www.sophosenlinea.com/wp-content/uploads/2018/09/censura_2_eventofb-01.jpg
END:VEVENT
END:VCALENDAR