BEGIN:VCALENDAR
VERSION:2.0
PRODID:-//Sophos - ECPv6.15.17.1//NONSGML v1.0//EN
CALSCALE:GREGORIAN
METHOD:PUBLISH
X-WR-CALNAME:Sophos
X-ORIGINAL-URL:https://www.sophosenlinea.com
X-WR-CALDESC:Eventos para Sophos
REFRESH-INTERVAL;VALUE=DURATION:PT1H
X-Robots-Tag:noindex
X-PUBLISHED-TTL:PT1H
BEGIN:VTIMEZONE
TZID:America/Chicago
BEGIN:DAYLIGHT
TZOFFSETFROM:-0600
TZOFFSETTO:-0500
TZNAME:CDT
DTSTART:20170312T080000
END:DAYLIGHT
BEGIN:STANDARD
TZOFFSETFROM:-0500
TZOFFSETTO:-0600
TZNAME:CST
DTSTART:20171105T070000
END:STANDARD
BEGIN:DAYLIGHT
TZOFFSETFROM:-0600
TZOFFSETTO:-0500
TZNAME:CDT
DTSTART:20180311T080000
END:DAYLIGHT
BEGIN:STANDARD
TZOFFSETFROM:-0500
TZOFFSETTO:-0600
TZNAME:CST
DTSTART:20181104T070000
END:STANDARD
BEGIN:DAYLIGHT
TZOFFSETFROM:-0600
TZOFFSETTO:-0500
TZNAME:CDT
DTSTART:20190310T080000
END:DAYLIGHT
BEGIN:STANDARD
TZOFFSETFROM:-0500
TZOFFSETTO:-0600
TZNAME:CST
DTSTART:20191103T070000
END:STANDARD
END:VTIMEZONE
BEGIN:VEVENT
DTSTART;TZID=America/Chicago:20180804T160000
DTEND;TZID=America/Chicago:20180804T170000
DTSTAMP:20260419T144255
CREATED:20180730T142253Z
LAST-MODIFIED:20180730T142328Z
UID:14537-1533398400-1533402000@www.sophosenlinea.com
SUMMARY:Trivia de los 3 magos
DESCRIPTION:Está bien ser audaz con la varita ¿pero qué hay del conocimiento? ¡Pon a prueba todo lo que sabes como Potterhead y participa en nuestra Trivia el sábado 4 de Agosto para ganar mágicos premios! Para participar necesitas inscribirte y colocar tu nombre en el Cáliz de Fuego en nuestra librería. Las inscripciones serán del lunes 30 de julio al viernes 3 de agosto\, ¡no te quedes sin cupo! \nQ 25.00 \n¡Habrá premio con artículos y libros de Harry Potter!
URL:https://www.sophosenlinea.com/event/trivia-los-3-magos/
LOCATION:Sophos Libreria\, 4ta Avenida 12-59 Zona 10 Plaza Fontabella 2do. nivel local 1D\, Guatemala City\, 01010\, Guatemala
ATTACH;FMTTYPE=image/jpeg:https://www.sophosenlinea.com/wp-content/uploads/2018/07/TORNEO_TRES_MAGOS-34-1.jpg
END:VEVENT
END:VCALENDAR