BEGIN:VCALENDAR
VERSION:2.0
PRODID:-//Sophos - ECPv6.15.17.1//NONSGML v1.0//EN
CALSCALE:GREGORIAN
METHOD:PUBLISH
X-WR-CALNAME:Sophos
X-ORIGINAL-URL:https://www.sophosenlinea.com
X-WR-CALDESC:Eventos para Sophos
REFRESH-INTERVAL;VALUE=DURATION:PT1H
X-Robots-Tag:noindex
X-PUBLISHED-TTL:PT1H
BEGIN:VTIMEZONE
TZID:America/Chicago
BEGIN:DAYLIGHT
TZOFFSETFROM:-0600
TZOFFSETTO:-0500
TZNAME:CDT
DTSTART:20170312T080000
END:DAYLIGHT
BEGIN:STANDARD
TZOFFSETFROM:-0500
TZOFFSETTO:-0600
TZNAME:CST
DTSTART:20171105T070000
END:STANDARD
BEGIN:DAYLIGHT
TZOFFSETFROM:-0600
TZOFFSETTO:-0500
TZNAME:CDT
DTSTART:20180311T080000
END:DAYLIGHT
BEGIN:STANDARD
TZOFFSETFROM:-0500
TZOFFSETTO:-0600
TZNAME:CST
DTSTART:20181104T070000
END:STANDARD
BEGIN:DAYLIGHT
TZOFFSETFROM:-0600
TZOFFSETTO:-0500
TZNAME:CDT
DTSTART:20190310T080000
END:DAYLIGHT
BEGIN:STANDARD
TZOFFSETFROM:-0500
TZOFFSETTO:-0600
TZNAME:CST
DTSTART:20191103T070000
END:STANDARD
END:VTIMEZONE
BEGIN:VEVENT
DTSTART;TZID=America/Chicago:20180719T110000
DTEND;TZID=America/Chicago:20180719T120000
DTSTAMP:20260419T144337
CREATED:20180705T132128Z
LAST-MODIFIED:20180705T132137Z
UID:14354-1531998000-1532001600@www.sophosenlinea.com
SUMMARY:TALLER DE EXPERIMENTOS PARA PROFESORES DE CIENCIAS
DESCRIPTION:Un taller para un máximo de 40 profesores\, para enseñar a hacer experimentos con material casero en clase\, cómo hacerlo y qué se busca con ello. \nJavier Fernández Panadero (Madrid\, 1972) es licenciado en Ciencias Físicas y DEA en Telecomunicaciones\, trabaja como profesor de Tecnología en Educación Secundaria.\nDesde su primer libro\, ¿Por qué el cielo es azul?\, colabora en radio\, televisión\, prensa\, imparte charlas sobre divulgación y realiza espectáculos de ciencia para niños y público en general.
URL:https://www.sophosenlinea.com/event/taller-experimentos-profesores-ciencias/
LOCATION:Fórum Majadas\, 8 Calle\, Guatemala City\, 01011\, Guatemala
ATTACH;FMTTYPE=image/jpeg:https://www.sophosenlinea.com/wp-content/uploads/2018/07/tallerciencia_evento.jpg
END:VEVENT
BEGIN:VEVENT
DTSTART;TZID=America/Chicago:20180719T190000
DTEND;TZID=America/Chicago:20180719T210000
DTSTAMP:20260419T144337
CREATED:20180705T132432Z
LAST-MODIFIED:20180705T132432Z
UID:14356-1532026800-1532034000@www.sophosenlinea.com
SUMMARY:TEATRO: QUÉ RAROS SON LOS HOMBRES
DESCRIPTION:José Ovejero\, autor ya consagrado — Premio Alfaguara de novela 2012 — presenta la versión escénica de varios de sus relatos en el espectáculo Qué raros son los hombres: una obra dirigida por Eusebio Lázaro\, en la que el propio Ovejero ha adaptado sus historias para el teatro\, y ha decidido interpretarlas. Una obra «a veces dramática\, a veces cómica»\, en la que José Ovejero dará cuerpo a tres de sus historias. \nEntrada: Q30 a favor de las víctimas del Volcán de Fuego \nJosé Ovejero (Madrid 1958) ha publicado novelas\, poesía\, teatro\, cuento\, ensayos y libros de viajes. Sus obras han recibido numerosos premios\, entre ellos el Anagrama de ensayo (La ética de la crueldad\, 2012) y el Alfaguara de novela (La invención del amor\, 2013).
URL:https://www.sophosenlinea.com/event/teatro-raros-los-hombres/
LOCATION:Centro cultural de España\, 6ta. Avenida 11-02 zona 1\, Centro Histórico – Edifico Lux\, Segundo Nivel\, Guatemala\, Guatemala
ATTACH;FMTTYPE=image/jpeg:https://www.sophosenlinea.com/wp-content/uploads/2018/07/queraros_evento.jpg
END:VEVENT
BEGIN:VEVENT
DTSTART;TZID=America/Chicago:20180719T190000
DTEND;TZID=America/Chicago:20180719T210000
DTSTAMP:20260419T144337
CREATED:20180705T132621Z
LAST-MODIFIED:20180705T132653Z
UID:14359-1532026800-1532034000@www.sophosenlinea.com
SUMMARY:PRESENTACIÓN DE LIBRO: LA MUERTE JUEGA A LOS DADOS POR CLARA OBLIGADO
DESCRIPTION:La muerte juega a los dados es un libro capaz de situarse en la frontera de los géneros y de la ficción misma. En una casa de la clase alta de Buenos Aires aparece un hombre con un disparo en la sien. Estamos en 1936. A partir de este relato\, se teje una compleja red de historias que\, en general\, ha sido exclusiva de la novela. Clara Obligado desarrolla\, al mismo tiempo\, una narración policíaca y una saga familiar que llega hasta nuestros días\, una colección de cuentos de brillante arquitectura cuyos afluentes arrastran al género hacia caminos nuevos. \nEntrevista: Denise Phé-Funchal \nClara Obligado nació en Buenos Aires y vive en España desde 1976. Es Licenciada en Literatura\, y ha dirigido los primeros talleres de Escritura Creativa que se organizaron en España\, actividad que ha llevado a cabo para numerosas universidades y diversas instituciones y que realiza de forma independiente. Es autora de los libros Las otras vidas y Por favor sea breve. \n\nDenise Phé-Funchal (Guatemala\, 1977) es socióloga y escritora. Publicó la novela Las flores (2007) y el poemario Manual del Mundo paraíso (2010). Participó en las antologías Sin casaca (2008) y Cuento macho (2008). En 2009 se desarrolló como guionista para el proyecto “Reinas de la noche”\, que aborda la vida de las personas transgénero en Guatemala\, y en 2010 participó en la adaptación de uno de su cuentos “Chapstick” para la filmación de un corto de ficción. Publicó el libro de cuentos Buenas Costumbres (2011).
URL:https://www.sophosenlinea.com/event/presentacion-libro-la-muerte-juega-los-dados-clara-obligado/
LOCATION:Fórum Majadas\, 8 Calle\, Guatemala City\, 01011\, Guatemala
ATTACH;FMTTYPE=image/jpeg:https://www.sophosenlinea.com/wp-content/uploads/2018/07/presentacionmuerte_evento.jpg
END:VEVENT
BEGIN:VEVENT
DTSTART;TZID=America/Chicago:20180719T200000
DTEND;TZID=America/Chicago:20180719T220000
DTSTAMP:20260419T144337
CREATED:20180705T132947Z
LAST-MODIFIED:20180706T060252Z
UID:14362-1532030400-1532037600@www.sophosenlinea.com
SUMMARY:CENANDO CON CHÉJOV
DESCRIPTION:Una cena en SOPHOS\, propuesta por Désirée\, nuestra chef\, en la que Paul Viejo\, traductor y editor español\, conversará con los comensales acerca de su relación con Chéjov en una velada salpicada por un par de lecturas del autor ruso entre uno y otro de los cuatro platillos. \nCena de 4 platillos\nPrecio: Q250 más propina\nReserve aquí: https://bit.ly/2KNKnbh \nPaul Viejo (1978) es autor y traductor. Ha publicado 4 libros de novela\, poesía y ensayo. Ha traducido la Correspondencia 1899-1904 entre Chéjov y Olga Knipper (Páginas de Espuma\, 2008) y preparado la edición completa de Diario de un escritor (Páginas de Espuma\, 2010) de Fiódor Dostoievski y de los Cuentos completos en cuatro volúmenes de Antón P. Chéjov (Páginas de Espuma\, 2013-2016).
URL:https://www.sophosenlinea.com/event/cenando-con-chejov/
LOCATION:Sophos Libreria\, 4ta Avenida 12-59 Zona 10 Plaza Fontabella 2do. nivel local 1D\, Guatemala City\, 01010\, Guatemala
ATTACH;FMTTYPE=image/jpeg:https://www.sophosenlinea.com/wp-content/uploads/2018/07/cenando-con-chejov-02.jpg
END:VEVENT
END:VCALENDAR