BEGIN:VCALENDAR
VERSION:2.0
PRODID:-//Sophos - ECPv6.15.17.1//NONSGML v1.0//EN
CALSCALE:GREGORIAN
METHOD:PUBLISH
X-ORIGINAL-URL:https://www.sophosenlinea.com
X-WR-CALDESC:Eventos para Sophos
REFRESH-INTERVAL;VALUE=DURATION:PT1H
X-Robots-Tag:noindex
X-PUBLISHED-TTL:PT1H
BEGIN:VTIMEZONE
TZID:America/Chicago
BEGIN:DAYLIGHT
TZOFFSETFROM:-0600
TZOFFSETTO:-0500
TZNAME:CDT
DTSTART:20170312T080000
END:DAYLIGHT
BEGIN:STANDARD
TZOFFSETFROM:-0500
TZOFFSETTO:-0600
TZNAME:CST
DTSTART:20171105T070000
END:STANDARD
BEGIN:DAYLIGHT
TZOFFSETFROM:-0600
TZOFFSETTO:-0500
TZNAME:CDT
DTSTART:20180311T080000
END:DAYLIGHT
BEGIN:STANDARD
TZOFFSETFROM:-0500
TZOFFSETTO:-0600
TZNAME:CST
DTSTART:20181104T070000
END:STANDARD
BEGIN:DAYLIGHT
TZOFFSETFROM:-0600
TZOFFSETTO:-0500
TZNAME:CDT
DTSTART:20190310T080000
END:DAYLIGHT
BEGIN:STANDARD
TZOFFSETFROM:-0500
TZOFFSETTO:-0600
TZNAME:CST
DTSTART:20191103T070000
END:STANDARD
END:VTIMEZONE
BEGIN:VEVENT
DTSTART;TZID=America/Chicago:20180702T180000
DTEND;TZID=America/Chicago:20180702T190000
DTSTAMP:20260419T144409
CREATED:20180628T062714Z
LAST-MODIFIED:20180628T062721Z
UID:14180-1530554400-1530558000@www.sophosenlinea.com
SUMMARY:Club de lectura: La hora del té
DESCRIPTION:En esta reunión del club se estará comentando el libro: «Tres guineas» de Virginia Woolf.\nModera: Diego Calderón\nMás información del club: https://bit.ly/2HRD6G2 \nSobre el libro:\nHacer a un lado todas las preocupaciones y estudios terrenales y delegarlos a otra persona constituye una motivación muy atractiva para algunos\, pues indudablemente hay quienes quieren retirarse y estudiar\, como demuestran la teología con sus refinamientos y la erudición con sus sutilezas; para otros\, esa motivación es una motivación pobre\, mezquina\, el motivo de la separación entre la Iglesia y el pueblo\, entre la literatura y el pueblo\, entre el marido y la mujer\, y que ha desempeñado un papel importante en sacar de quicio a la totalidad de la Commonwealth. Pero cualesquiera sean las motivaciones fuertes e inconscientes que subyacen a la exclusión de las mujeres del sacerdocio -y es evidente que aquí no vamos a enumerarlas\, mucho menos escarbar hasta su raíces- la hija del hombre instruido puede confirmar\, a partir de su experiencia\, que «es común\, e incluso frecuente\, que dichas concepciones sobrevivan en el adulto a pesar de la irracionalidad que las caracteriza y traicionen su presencia debajo del nivel del pensamiento consciente a causa de la fuerza de los sentimientos que despiertan».
URL:https://www.sophosenlinea.com/event/club-lectura-la-hora-del-te-2/
LOCATION:Sophos Libreria\, 4ta Avenida 12-59 Zona 10 Plaza Fontabella 2do. nivel local 1D\, Guatemala City\, 01010\, Guatemala
ATTACH;FMTTYPE=image/jpeg:https://www.sophosenlinea.com/wp-content/uploads/2018/06/club_horadel_te-01.jpg
END:VEVENT
END:VCALENDAR