BEGIN:VCALENDAR
VERSION:2.0
PRODID:-//Sophos - ECPv6.15.20//NONSGML v1.0//EN
CALSCALE:GREGORIAN
METHOD:PUBLISH
X-ORIGINAL-URL:https://www.sophosenlinea.com
X-WR-CALDESC:Eventos para Sophos
REFRESH-INTERVAL;VALUE=DURATION:PT1H
X-Robots-Tag:noindex
X-PUBLISHED-TTL:PT1H
BEGIN:VTIMEZONE
TZID:America/Chicago
BEGIN:DAYLIGHT
TZOFFSETFROM:-0600
TZOFFSETTO:-0500
TZNAME:CDT
DTSTART:20170312T080000
END:DAYLIGHT
BEGIN:STANDARD
TZOFFSETFROM:-0500
TZOFFSETTO:-0600
TZNAME:CST
DTSTART:20171105T070000
END:STANDARD
BEGIN:DAYLIGHT
TZOFFSETFROM:-0600
TZOFFSETTO:-0500
TZNAME:CDT
DTSTART:20180311T080000
END:DAYLIGHT
BEGIN:STANDARD
TZOFFSETFROM:-0500
TZOFFSETTO:-0600
TZNAME:CST
DTSTART:20181104T070000
END:STANDARD
BEGIN:DAYLIGHT
TZOFFSETFROM:-0600
TZOFFSETTO:-0500
TZNAME:CDT
DTSTART:20190310T080000
END:DAYLIGHT
BEGIN:STANDARD
TZOFFSETFROM:-0500
TZOFFSETTO:-0600
TZNAME:CST
DTSTART:20191103T070000
END:STANDARD
END:VTIMEZONE
BEGIN:VEVENT
DTSTART;TZID=America/Chicago:20180618T190000
DTEND;TZID=America/Chicago:20180618T190000
DTSTAMP:20260423T123057
CREATED:20180611T155917Z
LAST-MODIFIED:20180611T181349Z
UID:14035-1529348400-1529348400@www.sophosenlinea.com
SUMMARY:Club de Astronomía
DESCRIPTION:En esta reunión del club se estará comentado el libro «Astrofísica para gente con prisa» de Neil deGrasse Tyson\nMás información del club: https://bit.ly/2IGRRih \nSobre el libro:\n¿Quién no ha visto el cielo estrellado y se ha preguntado: qué significa todo esto\, cómo funciona el universo\, cuál es mi lugar en el cosmos? Si estás tan ocupado como para tomar clases o leer libros especializados que te permitan entender nuestro universo\, pero aún así buscas una breve y valiosa introducción a la materia\, en Astrofísica para gente con prisa\, Neil deGrasse Tyson ha sintetizado los principales conceptos y descubrimientos que impulsan nuestra comprensión moderna del universo\, de manera que en 12 breves lecciones podrás convertirte en un versado en la materia y\, mejor aún\, tendrás ganas de aprender más.
URL:https://www.sophosenlinea.com/event/club-de-astronomia-2/
LOCATION:Sophos Libreria\, 4ta Avenida 12-59 Zona 10 Plaza Fontabella 2do. nivel local 1D\, Guatemala City\, 01010\, Guatemala
ATTACH;FMTTYPE=image/jpeg:https://www.sophosenlinea.com/wp-content/uploads/2018/06/club_astronomia-01-1.jpg
END:VEVENT
END:VCALENDAR