BEGIN:VCALENDAR
VERSION:2.0
PRODID:-//Sophos - ECPv6.15.17.1//NONSGML v1.0//EN
CALSCALE:GREGORIAN
METHOD:PUBLISH
X-ORIGINAL-URL:https://www.sophosenlinea.com
X-WR-CALDESC:Eventos para Sophos
REFRESH-INTERVAL;VALUE=DURATION:PT1H
X-Robots-Tag:noindex
X-PUBLISHED-TTL:PT1H
BEGIN:VTIMEZONE
TZID:America/Chicago
BEGIN:DAYLIGHT
TZOFFSETFROM:-0600
TZOFFSETTO:-0500
TZNAME:CDT
DTSTART:20160313T080000
END:DAYLIGHT
BEGIN:STANDARD
TZOFFSETFROM:-0500
TZOFFSETTO:-0600
TZNAME:CST
DTSTART:20161106T070000
END:STANDARD
BEGIN:DAYLIGHT
TZOFFSETFROM:-0600
TZOFFSETTO:-0500
TZNAME:CDT
DTSTART:20170312T080000
END:DAYLIGHT
BEGIN:STANDARD
TZOFFSETFROM:-0500
TZOFFSETTO:-0600
TZNAME:CST
DTSTART:20171105T070000
END:STANDARD
BEGIN:DAYLIGHT
TZOFFSETFROM:-0600
TZOFFSETTO:-0500
TZNAME:CDT
DTSTART:20180311T080000
END:DAYLIGHT
BEGIN:STANDARD
TZOFFSETFROM:-0500
TZOFFSETTO:-0600
TZNAME:CST
DTSTART:20181104T070000
END:STANDARD
END:VTIMEZONE
BEGIN:VEVENT
DTSTART;TZID=America/Chicago:20171121T100000
DTEND;TZID=America/Chicago:20171121T210000
DTSTAMP:20260419T170421
CREATED:20171114T113147Z
LAST-MODIFIED:20171115T114448Z
UID:2222-1511258400-1511298000@www.sophosenlinea.com
SUMMARY:15% de descuento en libros
DESCRIPTION:3er martes del mes\nActividad para Lectores Empedernidos \nEl tercer martes del mes los miembros del Programa de Lector Empedernido reciben 15% de descuento en libros.
URL:https://www.sophosenlinea.com/event/15-de-descuento-en-libros-4/
LOCATION:Sophos Libreria\, 4ta Avenida 12-59 Zona 10 Plaza Fontabella 2do. nivel local 1D\, Guatemala City\, 01010\, Guatemala
ATTACH;FMTTYPE=image/jpeg:https://www.sophosenlinea.com/wp-content/uploads/2017/11/b81e03fdce5b77f84fbd10d604010924.jpg
END:VEVENT
BEGIN:VEVENT
DTSTART;TZID=America/Chicago:20171121T190000
DTEND;TZID=America/Chicago:20171121T203000
DTSTAMP:20260419T170421
CREATED:20171115T114448Z
LAST-MODIFIED:20171115T114448Z
UID:2246-1511290800-1511296200@www.sophosenlinea.com
SUMMARY:El Imperio del Fuego Eterno por Alan Escobedo
DESCRIPTION:Una obra atípica\, escrita en forma de mito\, que relata la creación de los dioses\, del mundo y los diferentes intentos por engendrar a los hombres y sus gobernantes\, en un contexto tetrapartito del espacio\, los seres y la organización sociopolítica. Es también un relato maniqueísta y desgarrador de la batalla final de la eterna lucha del bien contra el mal\, entre el orden y el caos del universo\, que llega a alcanzar niveles fratricidas y aniquiladores. \nEsta novela evoca a “Hombres de Maíz”\, la obra maestra de Miguel Ángel Asturias\, por la combinación de creencias indígenas dentro de un esquema de tiempo mítico\, en el que miles de años se comprimen y aparecen como diferentes partes de un momento único. Es una obra en la que predomina el sincretismo religioso que se produjo a partir de la conquista española\, en el cual se mezclan dogmas de las cosmovisiones mayas y juedo-crisitana\, del Popol Vuh y de la Biblia. \nAlan Escobedo (Guatemala\, 1989).\nLicenciado en Administración de Empresas (Cum Laude)\, Máster en Administracion de Negocios por la Universidad Francisco Marroquín y un Máster in Administración de Tulane University. Estudió el Doctorado en Historia de la Universidad Francisco Marroquín y actualmente\, estudia la Licenciatura en Administración Pública de la Universidad Galileo y el Doctorado en Ciencias Humanas y Sociales de la Universidad Pontificia de Salamanca.
URL:https://www.sophosenlinea.com/event/el-imperio-del-fuego-eterno-por-alan-escobedo/
LOCATION:Sophos Libreria\, 4ta Avenida 12-59 Zona 10 Plaza Fontabella 2do. nivel local 1D\, Guatemala City\, 01010\, Guatemala
ATTACH;FMTTYPE=image/jpeg:https://www.sophosenlinea.com/wp-content/uploads/2017/11/6c667f6e3d05d31efac0b1378452360f.jpg
END:VEVENT
END:VCALENDAR