BEGIN:VCALENDAR
VERSION:2.0
PRODID:-//Sophos - ECPv6.15.17.1//NONSGML v1.0//EN
CALSCALE:GREGORIAN
METHOD:PUBLISH
X-WR-CALNAME:Sophos
X-ORIGINAL-URL:https://www.sophosenlinea.com
X-WR-CALDESC:Eventos para Sophos
REFRESH-INTERVAL;VALUE=DURATION:PT1H
X-Robots-Tag:noindex
X-PUBLISHED-TTL:PT1H
BEGIN:VTIMEZONE
TZID:America/Chicago
BEGIN:DAYLIGHT
TZOFFSETFROM:-0600
TZOFFSETTO:-0500
TZNAME:CDT
DTSTART:20160313T080000
END:DAYLIGHT
BEGIN:STANDARD
TZOFFSETFROM:-0500
TZOFFSETTO:-0600
TZNAME:CST
DTSTART:20161106T070000
END:STANDARD
BEGIN:DAYLIGHT
TZOFFSETFROM:-0600
TZOFFSETTO:-0500
TZNAME:CDT
DTSTART:20170312T080000
END:DAYLIGHT
BEGIN:STANDARD
TZOFFSETFROM:-0500
TZOFFSETTO:-0600
TZNAME:CST
DTSTART:20171105T070000
END:STANDARD
BEGIN:DAYLIGHT
TZOFFSETFROM:-0600
TZOFFSETTO:-0500
TZNAME:CDT
DTSTART:20180311T080000
END:DAYLIGHT
BEGIN:STANDARD
TZOFFSETFROM:-0500
TZOFFSETTO:-0600
TZNAME:CST
DTSTART:20181104T070000
END:STANDARD
END:VTIMEZONE
BEGIN:VEVENT
DTSTART;TZID=America/Chicago:20171118T110000
DTEND;TZID=America/Chicago:20171118T120000
DTSTAMP:20260419T172631
CREATED:20171114T112357Z
LAST-MODIFIED:20171115T113031Z
UID:2218-1511002800-1511006400@www.sophosenlinea.com
SUMMARY:El monstruo de la calle de colores de Mario Payeras
DESCRIPTION:Modera Venus Espina\n10% de descuento en las lecturas programadas.  \nLlegaron las vacaciones y con ellas mucho tiempo para descansar\, jugar y por supuesto leer\, así que ven a visitarnos y trae tu libro favorito.\nCompartiremos por qué es nuestro libro especial y leeremos un libro muy divertido «El monstruo de la calle de colores».\nPara comunicar ideas interactuaremos con un libro objeto.
URL:https://www.sophosenlinea.com/event/el-monstruo-de-la-calle-de-colores-de-mario-payeras/
LOCATION:Sophos Libreria\, 4ta Avenida 12-59 Zona 10 Plaza Fontabella 2do. nivel local 1D\, Guatemala City\, 01010\, Guatemala
ATTACH;FMTTYPE=image/jpeg:https://www.sophosenlinea.com/wp-content/uploads/2017/11/950470ce51c8fcd99957d33e0add928a.jpg
END:VEVENT
BEGIN:VEVENT
DTSTART;TZID=America/Chicago:20171118T160000
DTEND;TZID=America/Chicago:20171118T173000
DTSTAMP:20260419T172631
CREATED:20171114T112359Z
LAST-MODIFIED:20171115T113031Z
UID:2220-1511020800-1511026200@www.sophosenlinea.com
SUMMARY:Rizo el erizo por Juli Bermúdez
DESCRIPTION:Rizo tenía miedo y por eso no salía de su cueva.\nUna noche se escapa y descubre que el miedo lo ha estado engañando y mal aconsejando.\nUna margarita\, una tortolita y un simpático gusano le enseñan que no hay por qué tener miedo y lo invitan a descubrir la fórmula perfecta para deshacerse de él.\nEl final de la historia dependerá de cómo lo asustes tú… \nMaestra de educación pre-primaria\, ama la lectura y cree fielmente en que el amor por ésta debe fomentarse desde los primeros años de vida\, por lo que en 2014 publica el cuento para niños “Con luz propia”.  \nJulia Helena Bermúdez\nTrabajó en una biblioteca escolar por cinco años. Motivó y moderó clubes de lectura para las jóvenes. Además implementó varias actividades que fomentaron el uso de los libros como parte fundamental para su formación integral.  \nEn Sophos ha acompañado los siguientes clubes de lectura: «Érase una vez…» en 2014. «Los héroes anónimos de la guerra» y «Entre el tiempo y las palabras» en 2015. “Letras cercanas” en 2016.»
URL:https://www.sophosenlinea.com/event/rizo-el-erizo-por-juli-bermudez/
LOCATION:Sophos Libreria\, 4ta Avenida 12-59 Zona 10 Plaza Fontabella 2do. nivel local 1D\, Guatemala City\, 01010\, Guatemala
ATTACH;FMTTYPE=image/jpeg:https://www.sophosenlinea.com/wp-content/uploads/2017/11/84ca6b907477d0fc77fd6ae90567b511.jpg
END:VEVENT
END:VCALENDAR