BEGIN:VCALENDAR
VERSION:2.0
PRODID:-//Sophos - ECPv6.15.17.1//NONSGML v1.0//EN
CALSCALE:GREGORIAN
METHOD:PUBLISH
X-ORIGINAL-URL:https://www.sophosenlinea.com
X-WR-CALDESC:Eventos para Sophos
REFRESH-INTERVAL;VALUE=DURATION:PT1H
X-Robots-Tag:noindex
X-PUBLISHED-TTL:PT1H
BEGIN:VTIMEZONE
TZID:America/Chicago
BEGIN:DAYLIGHT
TZOFFSETFROM:-0600
TZOFFSETTO:-0500
TZNAME:CDT
DTSTART:20160313T080000
END:DAYLIGHT
BEGIN:STANDARD
TZOFFSETFROM:-0500
TZOFFSETTO:-0600
TZNAME:CST
DTSTART:20161106T070000
END:STANDARD
BEGIN:DAYLIGHT
TZOFFSETFROM:-0600
TZOFFSETTO:-0500
TZNAME:CDT
DTSTART:20170312T080000
END:DAYLIGHT
BEGIN:STANDARD
TZOFFSETFROM:-0500
TZOFFSETTO:-0600
TZNAME:CST
DTSTART:20171105T070000
END:STANDARD
BEGIN:DAYLIGHT
TZOFFSETFROM:-0600
TZOFFSETTO:-0500
TZNAME:CDT
DTSTART:20180311T080000
END:DAYLIGHT
BEGIN:STANDARD
TZOFFSETFROM:-0500
TZOFFSETTO:-0600
TZNAME:CST
DTSTART:20181104T070000
END:STANDARD
END:VTIMEZONE
BEGIN:VEVENT
DTSTART;TZID=America/Chicago:20171114T190000
DTEND;TZID=America/Chicago:20171114T210000
DTSTAMP:20260419T172736
CREATED:20171108T094450Z
LAST-MODIFIED:20171115T113030Z
UID:2192-1510686000-1510693200@www.sophosenlinea.com
SUMMARY:Estoicismo a cargo de Mauricio Garita
DESCRIPTION:Lectores Empedernidos gratis\nPúblico en general Q 25 \nEl estoicismo es una filosofía de vida que busca que cada uno de nosotros se convierta en un mejor hombre o mujer para poder contribuir a la sociedad. Hoy en día el estoicismo esta tomando su lugar en la historia\, promoviendo un mejor y mas completo estilo de vida basado en humildad y respeto al prójimo. \nEsta filosofía predicada por un esclavo que decía tener mas que los hombres más ricos del imperio romano\, por un asesor millonario que decidía practicar la pobreza y por un Emperador Romano que se describía a si mismo como sólo un conjunto de huesos\, venas y músculos\, es en si un encuentro fuera del materialismo hacia la apreciación del ser.
URL:https://www.sophosenlinea.com/event/estoicismo-a-cargo-de-mauricio-garita/
LOCATION:Sophos Libreria\, 4ta Avenida 12-59 Zona 10 Plaza Fontabella 2do. nivel local 1D\, Guatemala City\, 01010\, Guatemala
ATTACH;FMTTYPE=image/jpeg:https://www.sophosenlinea.com/wp-content/uploads/2017/11/d8a525f9677de87338907c59b41b0487.jpg
END:VEVENT
END:VCALENDAR