BEGIN:VCALENDAR
VERSION:2.0
PRODID:-//Sophos - ECPv6.15.17.1//NONSGML v1.0//EN
CALSCALE:GREGORIAN
METHOD:PUBLISH
X-ORIGINAL-URL:https://www.sophosenlinea.com
X-WR-CALDESC:Eventos para Sophos
REFRESH-INTERVAL;VALUE=DURATION:PT1H
X-Robots-Tag:noindex
X-PUBLISHED-TTL:PT1H
BEGIN:VTIMEZONE
TZID:America/Chicago
BEGIN:DAYLIGHT
TZOFFSETFROM:-0600
TZOFFSETTO:-0500
TZNAME:CDT
DTSTART:20160313T080000
END:DAYLIGHT
BEGIN:STANDARD
TZOFFSETFROM:-0500
TZOFFSETTO:-0600
TZNAME:CST
DTSTART:20161106T070000
END:STANDARD
BEGIN:DAYLIGHT
TZOFFSETFROM:-0600
TZOFFSETTO:-0500
TZNAME:CDT
DTSTART:20170312T080000
END:DAYLIGHT
BEGIN:STANDARD
TZOFFSETFROM:-0500
TZOFFSETTO:-0600
TZNAME:CST
DTSTART:20171105T070000
END:STANDARD
BEGIN:DAYLIGHT
TZOFFSETFROM:-0600
TZOFFSETTO:-0500
TZNAME:CDT
DTSTART:20180311T080000
END:DAYLIGHT
BEGIN:STANDARD
TZOFFSETFROM:-0500
TZOFFSETTO:-0600
TZNAME:CST
DTSTART:20181104T070000
END:STANDARD
END:VTIMEZONE
BEGIN:VEVENT
DTSTART;TZID=America/Chicago:20171110T190000
DTEND;TZID=America/Chicago:20171110T230000
DTSTAMP:20260419T172709
CREATED:20171031T192213Z
LAST-MODIFIED:20171110T065135Z
UID:2122-1510340400-1510354800@www.sophosenlinea.com
SUMMARY:Acción de Gracias. Una noche para compartir.
DESCRIPTION:Otoño es la estación de los sabores sutiles y aromáticos. Champiñones\, calabazas\, nueces\, uvas\, y también vinos\, nuevos y maduros.  \nEsta noche del viernes 10 de noviembre\, venga a compartir una cena de cinco platos\, en la que compartiremos de todo.  \nDe nuestra cocina\, los guiaremos a través de las mismas recetas que probarán\, y compartiremos algunos tips\, para que\, llegada la mera noche de Acción de Gracias\, puedan ustedes mismos lucirse con los suyos.  \nDe nuestra librería\, les propondremos historias.  \nFinalmente\, nuestro amigo Javier Vadillo\, de Alcazarén\, compartirá con nosotros todo lo que sabe sobre los vinos que cuidadosamente ha seleccionado para acompañar nuestros platos. \nQ360 por persona (servicio y degustación de vinos incluida).\nReserve al 2419-7053\nReserve en línea https://goo.gl/forms/QkDLrEARPuOBLmB83\n*Reserva bajo cancelación.
URL:https://www.sophosenlinea.com/event/accion-de-gracias-una-noche-para-compartir/
LOCATION:Sophos Libreria\, 4ta Avenida 12-59 Zona 10 Plaza Fontabella 2do. nivel local 1D\, Guatemala City\, 01010\, Guatemala
ATTACH;FMTTYPE=image/jpeg:https://www.sophosenlinea.com/wp-content/uploads/2017/11/73fb715595e82da8b6af2a6486b62eb8.jpg
END:VEVENT
BEGIN:VEVENT
DTSTART;TZID=America/Chicago:20171110T190000
DTEND;TZID=America/Chicago:20171110T230000
DTSTAMP:20260419T172709
CREATED:20171031T192214Z
LAST-MODIFIED:20171031T192214Z
UID:2123-1510340400-1510354800@www.sophosenlinea.com
SUMMARY:Acción de Gracias. Una noche para compartir.
DESCRIPTION:Otoño es la estación de los sabores sutiles y aromáticos. Champiñones\, calabazas\, nueces\, uvas\, y también vinos\, nuevos y maduros.  \nEsta noche del viernes 10 de noviembre\, venga a compartir una cena de cinco platos\, en la que compartiremos de todo.  \nDe nuestra cocina\, los guiaremos a través de las mismas recetas que probarán\, y compartiremos algunos tips\, para que\, llegada la mera noche de Acción de Gracias\, puedan ustedes mismos lucirse con los suyos.  \nDe nuestra librería\, les propondremos historias.  \nFinalmente\, nuestro amigo Javier Vadillo\, de Alcazarén\, compartirá con nosotros todo lo que sabe sobre los vinos que cuidadosamente ha seleccionado para acompañar nuestros platos. \nQ350 por persona (servicio y degustación de vinos incluida).\nReserve al 2419-7053\nReserve en línea https://goo.gl/forms/QkDLrEARPuOBLmB83\n*Reserva bajo cancelación.
URL:https://www.sophosenlinea.com/event/accion-de-gracias-una-noche-para-compartir-2/
LOCATION:Sophos Libreria\, 4ta Avenida 12-59 Zona 10 Plaza Fontabella 2do. nivel local 1D\, Guatemala City\, 01010\, Guatemala
ATTACH;FMTTYPE=image/jpeg:https://www.sophosenlinea.com/wp-content/uploads/2017/10/cf7eb52fc81d7e80a6220d35fc62fb6b-1.jpg
END:VEVENT
END:VCALENDAR