BEGIN:VCALENDAR
VERSION:2.0
PRODID:-//Sophos - ECPv6.15.17.1//NONSGML v1.0//EN
CALSCALE:GREGORIAN
METHOD:PUBLISH
X-ORIGINAL-URL:https://www.sophosenlinea.com
X-WR-CALDESC:Eventos para Sophos
REFRESH-INTERVAL;VALUE=DURATION:PT1H
X-Robots-Tag:noindex
X-PUBLISHED-TTL:PT1H
BEGIN:VTIMEZONE
TZID:America/Chicago
BEGIN:DAYLIGHT
TZOFFSETFROM:-0600
TZOFFSETTO:-0500
TZNAME:CDT
DTSTART:20160313T080000
END:DAYLIGHT
BEGIN:STANDARD
TZOFFSETFROM:-0500
TZOFFSETTO:-0600
TZNAME:CST
DTSTART:20161106T070000
END:STANDARD
BEGIN:DAYLIGHT
TZOFFSETFROM:-0600
TZOFFSETTO:-0500
TZNAME:CDT
DTSTART:20170312T080000
END:DAYLIGHT
BEGIN:STANDARD
TZOFFSETFROM:-0500
TZOFFSETTO:-0600
TZNAME:CST
DTSTART:20171105T070000
END:STANDARD
BEGIN:DAYLIGHT
TZOFFSETFROM:-0600
TZOFFSETTO:-0500
TZNAME:CDT
DTSTART:20180311T080000
END:DAYLIGHT
BEGIN:STANDARD
TZOFFSETFROM:-0500
TZOFFSETTO:-0600
TZNAME:CST
DTSTART:20181104T070000
END:STANDARD
END:VTIMEZONE
BEGIN:VEVENT
DTSTART;TZID=America/Chicago:20171108T190000
DTEND;TZID=America/Chicago:20171108T210000
DTSTAMP:20260419T171717
CREATED:20171103T082652Z
LAST-MODIFIED:20171108T094358Z
UID:2141-1510167600-1510174800@www.sophosenlinea.com
SUMMARY:Noche de Poesía y micrófono abierto
DESCRIPTION:Mario Benedetti define la poesía como «el alma del mundo»\, es por ello que el miércoles 8 de noviembre a las 19:00 hrs. en SOPHOS tendremos un espacio para aquellas personas que han plasmado sus pensamientos\, ideas y esencia en verso.  \nEsta noche contará con los invitados: Vania Vargas\, Carmen Lucía Alvarado y Wingston González\, compartiendo un poco acerca de su poesía y la poesía que los ha inspirado a ellos.
URL:https://www.sophosenlinea.com/event/noche-de-poesia-y-microfono-abierto/
LOCATION:Sophos Libreria\, 4ta Avenida 12-59 Zona 10 Plaza Fontabella 2do. nivel local 1D\, Guatemala City\, 01010\, Guatemala
ATTACH;FMTTYPE=image/jpeg:https://www.sophosenlinea.com/wp-content/uploads/2017/11/2491b20d4b06096c7c49288e3199bec1.jpg
END:VEVENT
END:VCALENDAR