BEGIN:VCALENDAR
VERSION:2.0
PRODID:-//Sophos - ECPv6.15.17.1//NONSGML v1.0//EN
CALSCALE:GREGORIAN
METHOD:PUBLISH
X-ORIGINAL-URL:https://www.sophosenlinea.com
X-WR-CALDESC:Eventos para Sophos
REFRESH-INTERVAL;VALUE=DURATION:PT1H
X-Robots-Tag:noindex
X-PUBLISHED-TTL:PT1H
BEGIN:VTIMEZONE
TZID:America/Chicago
BEGIN:DAYLIGHT
TZOFFSETFROM:-0600
TZOFFSETTO:-0500
TZNAME:CDT
DTSTART:20160313T080000
END:DAYLIGHT
BEGIN:STANDARD
TZOFFSETFROM:-0500
TZOFFSETTO:-0600
TZNAME:CST
DTSTART:20161106T070000
END:STANDARD
BEGIN:DAYLIGHT
TZOFFSETFROM:-0600
TZOFFSETTO:-0500
TZNAME:CDT
DTSTART:20170312T080000
END:DAYLIGHT
BEGIN:STANDARD
TZOFFSETFROM:-0500
TZOFFSETTO:-0600
TZNAME:CST
DTSTART:20171105T070000
END:STANDARD
BEGIN:DAYLIGHT
TZOFFSETFROM:-0600
TZOFFSETTO:-0500
TZNAME:CDT
DTSTART:20180311T080000
END:DAYLIGHT
BEGIN:STANDARD
TZOFFSETFROM:-0500
TZOFFSETTO:-0600
TZNAME:CST
DTSTART:20181104T070000
END:STANDARD
END:VTIMEZONE
BEGIN:VEVENT
DTSTART;TZID=America/Chicago:20171107T190000
DTEND;TZID=America/Chicago:20171107T210000
DTSTAMP:20260419T170421
CREATED:20171031T192213Z
LAST-MODIFIED:20171108T094358Z
UID:2118-1510081200-1510088400@www.sophosenlinea.com
SUMMARY:Tita Moreno y Ranfis
DESCRIPTION:Lectores Empedernidos gratis\nPúblico en general Q 25 \nTita y Ranfis estarán en SOPHOS interpretando música de Mon Laferte\, Natalia Lafourcade\, Zoé\, Jorge Drexler\, Café Tacvba\, Bomba Estéreo\, entre otros. \nTita Moreno\nDesde pequeña le gusta la música. Empezó a tocar guitarra a los 13 años\, luego\, se decidió más por el canto. Ha participado dos veces en el EMF (Empire Music Festival). También ha colaborado con algunos artistas guatemaltecos\, entre ellos\, el Ishto Juevez.  \nSu más reciente proyecto musical es Nina Índigo\, una banda de synth-pop-rock integrada por Pepe Mollinedo (Bohemia Suburbana)\, Juanca Barrios (Bohemia Suburbana y Radio Zumbido)\, Luispe González (Tijuana Love\, Imox Jazz)\, y Tita Moreno en la voz. \nRanfis\nMúsico y compositor guatemalteco graduado de Berklee Music como profesional y especialista en “Music Performance”.\nSu música original mezcla letras en español con lo alternativo y raices latinas.
URL:https://www.sophosenlinea.com/event/tita-moreno-y-ranfis/
LOCATION:Sophos Libreria\, 4ta Avenida 12-59 Zona 10 Plaza Fontabella 2do. nivel local 1D\, Guatemala City\, 01010\, Guatemala
ATTACH;FMTTYPE=image/jpeg:https://www.sophosenlinea.com/wp-content/uploads/2017/10/eaf65dddf9056e2fd78a6f53fa3e151a.jpg
END:VEVENT
BEGIN:VEVENT
DTSTART;TZID=America/Chicago:20171107T190000
DTEND;TZID=America/Chicago:20171107T210000
DTSTAMP:20260419T170421
CREATED:20171031T192213Z
LAST-MODIFIED:20171031T192213Z
UID:2119-1510081200-1510088400@www.sophosenlinea.com
SUMMARY:Tita Moreno y Ranfis
DESCRIPTION:Lectores Empedernidos gratis\nPúblico en general Q 25 \nTita y Ranfis estarán en SOPHOS interpretando música de Mon Laferte\, Natalia Lafourcade\, Zoé\, Jorge Drexler\, Café Tacvba\, Bomba Estéreo\, entre otros. \nTita Moreno\nDesde pequeña le gusta la música. Empezó a tocar guitarra a los 13 años\, luego\, se decidió más por el canto. Ha participado dos veces en el EMF (Empire Music Festival). También ha colaborado con algunos artistas guatemaltecos\, entre ellos\, el Ishto Juevez.  \nSu más reciente proyecto musical es Nina Índigo\, una banda de synth-pop-rock integrada por Pepe Mollinedo (Bohemia Suburbana)\, Juanca Barrios (Bohemia Suburbana y Radio Zumbido)\, Luispe González (Tijuana Love\, Imox Jazz)\, y Tita Moreno en la voz. \nRanfis\nMúsico y compositor guatemalteco graduado de Berklee Music como profesional y especialista en “Music Performance”.\nSu música original mezcla letras en español con lo alternativo y raices latinas.
URL:https://www.sophosenlinea.com/event/tita-moreno-y-ranfis-2/
LOCATION:Sophos Libreria\, 4ta Avenida 12-59 Zona 10 Plaza Fontabella 2do. nivel local 1D\, Guatemala City\, 01010\, Guatemala
ATTACH;FMTTYPE=image/jpeg:https://www.sophosenlinea.com/wp-content/uploads/2017/10/eaf65dddf9056e2fd78a6f53fa3e151a-1.jpg
END:VEVENT
END:VCALENDAR