BEGIN:VCALENDAR
VERSION:2.0
PRODID:-//Sophos - ECPv6.15.17.1//NONSGML v1.0//EN
CALSCALE:GREGORIAN
METHOD:PUBLISH
X-WR-CALNAME:Sophos
X-ORIGINAL-URL:https://www.sophosenlinea.com
X-WR-CALDESC:Eventos para Sophos
REFRESH-INTERVAL;VALUE=DURATION:PT1H
X-Robots-Tag:noindex
X-PUBLISHED-TTL:PT1H
BEGIN:VTIMEZONE
TZID:America/Chicago
BEGIN:DAYLIGHT
TZOFFSETFROM:-0600
TZOFFSETTO:-0500
TZNAME:CDT
DTSTART:20160313T080000
END:DAYLIGHT
BEGIN:STANDARD
TZOFFSETFROM:-0500
TZOFFSETTO:-0600
TZNAME:CST
DTSTART:20161106T070000
END:STANDARD
BEGIN:DAYLIGHT
TZOFFSETFROM:-0600
TZOFFSETTO:-0500
TZNAME:CDT
DTSTART:20170312T080000
END:DAYLIGHT
BEGIN:STANDARD
TZOFFSETFROM:-0500
TZOFFSETTO:-0600
TZNAME:CST
DTSTART:20171105T070000
END:STANDARD
BEGIN:DAYLIGHT
TZOFFSETFROM:-0600
TZOFFSETTO:-0500
TZNAME:CDT
DTSTART:20180311T080000
END:DAYLIGHT
BEGIN:STANDARD
TZOFFSETFROM:-0500
TZOFFSETTO:-0600
TZNAME:CST
DTSTART:20181104T070000
END:STANDARD
END:VTIMEZONE
BEGIN:VEVENT
DTSTART;TZID=America/Chicago:20171025T190000
DTEND;TZID=America/Chicago:20171025T203000
DTSTAMP:20260419T153830
CREATED:20171025T104453Z
LAST-MODIFIED:20171026T113239Z
UID:2080-1508958000-1508963400@www.sophosenlinea.com
SUMMARY:Desigualdad socio-económica y desarrollo por Samuel Pérez-Attías
DESCRIPTION:La actividad invitará a la reflexión al detonar preguntas para abrir una más amplia e informada conversación sobre el tema en la opinión publica y en la agenda nacional. \nSe abordara el problema de la desigualdad socio-económica y su relevancia en el Desarrollo\, conceptos y se presentará evidencia empírica sobre su impacto en diferentes países del mundo y algunas correlaciones con otras variables\, en el mundo y en Guatemala. \nLic. Samuel Perez-Attias\, Economista Guatemalteco\, con estudios de post-grado en Desarrollo Local\, Educación y Liderazgo. Fue director del Departamento de Economía de la URL. Actualmente reside en Victoria\, Canadá\, donde desde hace 7 años ejerce como profesor de Economía y Teoría del Conocimiento en el Lester B. Pearson College of the Pacific.\nEs autor de la columna de opinión semanal «Paralelo 30» en el diario Guatemalteco «Prensa Libre».
URL:https://www.sophosenlinea.com/event/desigualdad-socio-economica-y-desarrollo-por-samuel-perez-attias/
LOCATION:Sophos Libreria\, 4ta Avenida 12-59 Zona 10 Plaza Fontabella 2do. nivel local 1D\, Guatemala City\, 01010\, Guatemala
ATTACH;FMTTYPE=image/jpeg:https://www.sophosenlinea.com/wp-content/uploads/2017/10/47f5b3b7d5cb4f71b61bcd8ee506809b.jpg
END:VEVENT
END:VCALENDAR