BEGIN:VCALENDAR
VERSION:2.0
PRODID:-//Sophos - ECPv6.15.17.1//NONSGML v1.0//EN
CALSCALE:GREGORIAN
METHOD:PUBLISH
X-ORIGINAL-URL:https://www.sophosenlinea.com
X-WR-CALDESC:Eventos para Sophos
REFRESH-INTERVAL;VALUE=DURATION:PT1H
X-Robots-Tag:noindex
X-PUBLISHED-TTL:PT1H
BEGIN:VTIMEZONE
TZID:America/Chicago
BEGIN:DAYLIGHT
TZOFFSETFROM:-0600
TZOFFSETTO:-0500
TZNAME:CDT
DTSTART:20160313T080000
END:DAYLIGHT
BEGIN:STANDARD
TZOFFSETFROM:-0500
TZOFFSETTO:-0600
TZNAME:CST
DTSTART:20161106T070000
END:STANDARD
BEGIN:DAYLIGHT
TZOFFSETFROM:-0600
TZOFFSETTO:-0500
TZNAME:CDT
DTSTART:20170312T080000
END:DAYLIGHT
BEGIN:STANDARD
TZOFFSETFROM:-0500
TZOFFSETTO:-0600
TZNAME:CST
DTSTART:20171105T070000
END:STANDARD
BEGIN:DAYLIGHT
TZOFFSETFROM:-0600
TZOFFSETTO:-0500
TZNAME:CDT
DTSTART:20180311T080000
END:DAYLIGHT
BEGIN:STANDARD
TZOFFSETFROM:-0500
TZOFFSETTO:-0600
TZNAME:CST
DTSTART:20181104T070000
END:STANDARD
END:VTIMEZONE
BEGIN:VEVENT
DTSTART;TZID=America/Chicago:20171024T190000
DTEND;TZID=America/Chicago:20171024T210000
DTSTAMP:20260419T153934
CREATED:20171017T185953Z
LAST-MODIFIED:20171025T104453Z
UID:2057-1508871600-1508878800@www.sophosenlinea.com
SUMMARY:Valeria Cerezo
DESCRIPTION:Lectores Empedernidos gratis\nPúblico en general Q 25 \nComparta una velada de conversación amena\, en torno a sus libros\, a su vida y al oficio de ser una escritora guatemalteca.\nSOPHOS le invita a una copa de vino. \nValeria Cerezo\n(Guatemala\, 1979)\nEscritora\, fotógrafa y guionista. Estudió Ciencias de la Comunicación en la Universidad Rafael Landívar; diplomada en Informes de lectura (Cálamo & Cran\, Madrid).  \nFormó parte de la antología Cuerpos (F&G editores\, 2015). Fue finalista del certamen BAM Letras 2016 con el libro de cuentos La muerte de Darling (F&G editores\, 2016); finalista certamen BAM letras 2017 con la novela La flor oscura (F&G editores\, 2017); ganadora del Premio de Cuento Mario Monteforte Toledo 2015\, por La raíz (Revista Contrapoder\, año 4. Número 177\, 2016).\nHa publicado diversos artículos\, documentales y reportajes sobre cultura\, cocina y viajes. Lectora empedernida.
URL:https://www.sophosenlinea.com/event/valeria-cerezo/
LOCATION:Sophos Libreria\, 4ta Avenida 12-59 Zona 10 Plaza Fontabella 2do. nivel local 1D\, Guatemala City\, 01010\, Guatemala
ATTACH;FMTTYPE=image/jpeg:https://www.sophosenlinea.com/wp-content/uploads/2017/10/16c8599ac4d182919a88d58abcfdb0b0.jpg
END:VEVENT
END:VCALENDAR