BEGIN:VCALENDAR
VERSION:2.0
PRODID:-//Sophos - ECPv6.15.17.1//NONSGML v1.0//EN
CALSCALE:GREGORIAN
METHOD:PUBLISH
X-WR-CALNAME:Sophos
X-ORIGINAL-URL:https://www.sophosenlinea.com
X-WR-CALDESC:Eventos para Sophos
REFRESH-INTERVAL;VALUE=DURATION:PT1H
X-Robots-Tag:noindex
X-PUBLISHED-TTL:PT1H
BEGIN:VTIMEZONE
TZID:America/Chicago
BEGIN:DAYLIGHT
TZOFFSETFROM:-0600
TZOFFSETTO:-0500
TZNAME:CDT
DTSTART:20160313T080000
END:DAYLIGHT
BEGIN:STANDARD
TZOFFSETFROM:-0500
TZOFFSETTO:-0600
TZNAME:CST
DTSTART:20161106T070000
END:STANDARD
BEGIN:DAYLIGHT
TZOFFSETFROM:-0600
TZOFFSETTO:-0500
TZNAME:CDT
DTSTART:20170312T080000
END:DAYLIGHT
BEGIN:STANDARD
TZOFFSETFROM:-0500
TZOFFSETTO:-0600
TZNAME:CST
DTSTART:20171105T070000
END:STANDARD
BEGIN:DAYLIGHT
TZOFFSETFROM:-0600
TZOFFSETTO:-0500
TZNAME:CDT
DTSTART:20180311T080000
END:DAYLIGHT
BEGIN:STANDARD
TZOFFSETFROM:-0500
TZOFFSETTO:-0600
TZNAME:CST
DTSTART:20181104T070000
END:STANDARD
END:VTIMEZONE
BEGIN:VEVENT
DTSTART;TZID=America/Chicago:20171023T190000
DTEND;TZID=America/Chicago:20171023T220000
DTSTAMP:20260419T153830
CREATED:20171018T195649Z
LAST-MODIFIED:20171022T165821Z
UID:2070-1508785200-1508796000@www.sophosenlinea.com
SUMMARY:Comida alemana - Maridaje
DESCRIPTION:En el mes del OktoberFest\, venga a disfrutar de una velada de degustación y aprendizaje.  \n4 platos\, inspirados de la gastronomía alemana\, cada uno maridado con una cerveza diferente especialmente seleccionada para la ocasión\, por el maestro cervecero Juan José Bonilla.\nQ225 propina incluida.  \nReserve al 2419-7053\nReserve en línea https://goo.gl/forms/pzvJw4SpJuICpf983\n*Reserva bajo cancelación.\nCon el apoyo de Cervecería Centroamericana.
URL:https://www.sophosenlinea.com/event/comida-alemana-maridaje/
LOCATION:Sophos Libreria\, 4ta Avenida 12-59 Zona 10 Plaza Fontabella 2do. nivel local 1D\, Guatemala City\, 01010\, Guatemala
ATTACH;FMTTYPE=image/jpeg:https://www.sophosenlinea.com/wp-content/uploads/2017/10/35b636a2bf1da058c4dd2462d6733968-1.jpg
END:VEVENT
END:VCALENDAR