BEGIN:VCALENDAR
VERSION:2.0
PRODID:-//Sophos - ECPv6.15.17.1//NONSGML v1.0//EN
CALSCALE:GREGORIAN
METHOD:PUBLISH
X-ORIGINAL-URL:https://www.sophosenlinea.com
X-WR-CALDESC:Eventos para Sophos
REFRESH-INTERVAL;VALUE=DURATION:PT1H
X-Robots-Tag:noindex
X-PUBLISHED-TTL:PT1H
BEGIN:VTIMEZONE
TZID:America/Chicago
BEGIN:DAYLIGHT
TZOFFSETFROM:-0600
TZOFFSETTO:-0500
TZNAME:CDT
DTSTART:20160313T080000
END:DAYLIGHT
BEGIN:STANDARD
TZOFFSETFROM:-0500
TZOFFSETTO:-0600
TZNAME:CST
DTSTART:20161106T070000
END:STANDARD
BEGIN:DAYLIGHT
TZOFFSETFROM:-0600
TZOFFSETTO:-0500
TZNAME:CDT
DTSTART:20170312T080000
END:DAYLIGHT
BEGIN:STANDARD
TZOFFSETFROM:-0500
TZOFFSETTO:-0600
TZNAME:CST
DTSTART:20171105T070000
END:STANDARD
BEGIN:DAYLIGHT
TZOFFSETFROM:-0600
TZOFFSETTO:-0500
TZNAME:CDT
DTSTART:20180311T080000
END:DAYLIGHT
BEGIN:STANDARD
TZOFFSETFROM:-0500
TZOFFSETTO:-0600
TZNAME:CST
DTSTART:20181104T070000
END:STANDARD
END:VTIMEZONE
BEGIN:VEVENT
DTSTART;TZID=America/Chicago:20171017T100000
DTEND;TZID=America/Chicago:20171017T210000
DTSTAMP:20260419T153913
CREATED:20171012T172526Z
LAST-MODIFIED:20171016T183629Z
UID:1813-1508234400-1508274000@www.sophosenlinea.com
SUMMARY:15% de descuento en libros
DESCRIPTION:3er martes del mes\nActividad para Lectores Empedernidos \nEl tercer martes del mes los miembros del Programa de Lector Empedernido reciben 15% de descuento en libros.
URL:https://www.sophosenlinea.com/event/15-de-descuento-en-libros-3/
LOCATION:Sophos Libreria\, 4ta Avenida 12-59 Zona 10 Plaza Fontabella 2do. nivel local 1D\, Guatemala City\, 01010\, Guatemala
ATTACH;FMTTYPE=image/jpeg:https://www.sophosenlinea.com/wp-content/uploads/2017/10/652a4071906aabfd2be1aa66bb587ff1-1.jpg
END:VEVENT
BEGIN:VEVENT
DTSTART;TZID=America/Chicago:20171017T180000
DTEND;TZID=America/Chicago:20171017T193000
DTSTAMP:20260419T153913
CREATED:20171012T172527Z
LAST-MODIFIED:20171016T183629Z
UID:1817-1508263200-1508268600@www.sophosenlinea.com
SUMMARY:Francisco Alejandro Méndez en el Zacapa Room
DESCRIPTION:El escritor guatemalteco\, Premio Nacional de Literatura “Miguel Ángel Asturias” 2017\, conversará sobre Literatura Guatemalteca y el cincuentenario del Nobel del Gran Lengua.  \n(Foto Prensa Libre: Juan Pablo Vicente).
URL:https://www.sophosenlinea.com/event/francisco-alejandro-mendez-en-el-zacapa-room/
LOCATION:1001 Noches\, 1a. avenida\, 11-50 Zona 10\, Guatemala City\, Guatemala
ATTACH;FMTTYPE=image/jpeg:https://www.sophosenlinea.com/wp-content/uploads/2017/10/50eb4e70cb904e72854f814cffd40d9d.jpg
END:VEVENT
BEGIN:VEVENT
DTSTART;TZID=America/Chicago:20171017T190000
DTEND;TZID=America/Chicago:20171017T203000
DTSTAMP:20260419T153913
CREATED:20171012T172527Z
LAST-MODIFIED:20171012T172527Z
UID:1823-1508266800-1508272200@www.sophosenlinea.com
SUMMARY:Premio Nobel de Literatura a cargo de Cristóbal Pacheco.
DESCRIPTION:Inspiración\, como el inicio del todo\, ideas en que emprende el fantástico viaje de la tinta\, letras que deben ser escritas y quizá censuradas\, publicaciones que deben alcanzar\, tocar y hacer sentir en cada mente y corazón de los lectores; así son los nobeles\, complejos y profundos\, que no se han hecho de la noche a la mañana. Nobel que se recibe o no\, empapado en tinta y sangre de la historia\, pero sobre todo\, en la grandeza de sus cimientos\, y de quienes son dignos de darle alcance. \nLa historia del premio que nos mantiene expectantes a todos los lectores cada año\, los ganadores\, las controversias y las grandes obras galardonadas\, todo en detalle y más en nuestra conferencia sobre el surgimiento y trayectoria del Premio Nobel.
URL:https://www.sophosenlinea.com/event/premio-nobel-de-literatura-a-cargo-de-cristobal-pacheco-2/
LOCATION:Sophos Libreria\, 4ta Avenida 12-59 Zona 10 Plaza Fontabella 2do. nivel local 1D\, Guatemala City\, 01010\, Guatemala
ATTACH;FMTTYPE=image/jpeg:https://www.sophosenlinea.com/wp-content/uploads/2017/10/49e59ac6a3ddb40dea106fa7aebe5055-1.jpg
END:VEVENT
BEGIN:VEVENT
DTSTART;TZID=America/Chicago:20171017T190000
DTEND;TZID=America/Chicago:20171017T203000
DTSTAMP:20260419T153913
CREATED:20171012T172527Z
LAST-MODIFIED:20171017T184632Z
UID:1821-1508266800-1508272200@www.sophosenlinea.com
SUMMARY:Premio Nobel de Literatura a cargo de Cristóbal Pacheco.
DESCRIPTION:Inspiración\, como el inicio del todo\, ideas en que emprende el fantástico viaje de la tinta\, letras que deben ser escritas y quizá censuradas\, publicaciones que deben alcanzar\, tocar y hacer sentir en cada mente y corazón de los lectores; así son los nobeles\, complejos y profundos\, que no se han hecho de la noche a la mañana. Nobel que se recibe o no\, empapado en tinta y sangre de la historia\, pero sobre todo\, en la grandeza de sus cimientos\, y de quienes son dignos de darle alcance. \nLa historia del premio que nos mantiene expectantes a todos los lectores cada año\, los ganadores\, las controversias y las grandes obras galardonadas\, todo en detalle y más en nuestra conferencia sobre el surgimiento y trayectoria del Premio Nobel.
URL:https://www.sophosenlinea.com/event/premio-nobel-de-literatura-a-cargo-de-cristobal-pacheco/
LOCATION:Sophos Libreria\, 4ta Avenida 12-59 Zona 10 Plaza Fontabella 2do. nivel local 1D\, Guatemala City\, 01010\, Guatemala
ATTACH;FMTTYPE=image/jpeg:https://www.sophosenlinea.com/wp-content/uploads/2017/10/49e59ac6a3ddb40dea106fa7aebe5055.jpg
END:VEVENT
END:VCALENDAR