BEGIN:VCALENDAR
VERSION:2.0
PRODID:-//Sophos - ECPv6.15.17.1//NONSGML v1.0//EN
CALSCALE:GREGORIAN
METHOD:PUBLISH
X-WR-CALNAME:Sophos
X-ORIGINAL-URL:https://www.sophosenlinea.com
X-WR-CALDESC:Eventos para Sophos
REFRESH-INTERVAL;VALUE=DURATION:PT1H
X-Robots-Tag:noindex
X-PUBLISHED-TTL:PT1H
BEGIN:VTIMEZONE
TZID:America/Chicago
BEGIN:DAYLIGHT
TZOFFSETFROM:-0600
TZOFFSETTO:-0500
TZNAME:CDT
DTSTART:20160313T080000
END:DAYLIGHT
BEGIN:STANDARD
TZOFFSETFROM:-0500
TZOFFSETTO:-0600
TZNAME:CST
DTSTART:20161106T070000
END:STANDARD
BEGIN:DAYLIGHT
TZOFFSETFROM:-0600
TZOFFSETTO:-0500
TZNAME:CDT
DTSTART:20170312T080000
END:DAYLIGHT
BEGIN:STANDARD
TZOFFSETFROM:-0500
TZOFFSETTO:-0600
TZNAME:CST
DTSTART:20171105T070000
END:STANDARD
BEGIN:DAYLIGHT
TZOFFSETFROM:-0600
TZOFFSETTO:-0500
TZNAME:CDT
DTSTART:20180311T080000
END:DAYLIGHT
BEGIN:STANDARD
TZOFFSETFROM:-0500
TZOFFSETTO:-0600
TZNAME:CST
DTSTART:20181104T070000
END:STANDARD
END:VTIMEZONE
BEGIN:VEVENT
DTSTART;TZID=America/Chicago:20171011T103000
DTEND;TZID=America/Chicago:20171011T113000
DTSTAMP:20260419T153842
CREATED:20171004T095226Z
LAST-MODIFIED:20171010T064227Z
UID:1388-1507717800-1507721400@www.sophosenlinea.com
SUMMARY:El hombre que amaba a los perros de Leonardo Padura
DESCRIPTION:A cargo de Mirna de Gutiérrez y Cristina Barrillas.\n10% de descuento en las lecturas programadas.  \nEn 2004\, a la muerte de su mujer\, Iván\, aspirante a escritor y ahora responsable de un paupérrimo gabinete veterinario de La Habana\, vuelve los ojos hacia un episodio de su vida\, ocurrido en 1977\, cuando conoció a un enigmático hombre que paseaba por la playa en compañía de dos hermosos galgos rusos.  \nTras varios encuentros\, «el hombre que amaba a los perros» comenzó a hacerlo depositario de unas singulares confidencias que van centrándose en la figura del asesino de Trotski\, Ramón Mercader\, de quien sabe detalles muy íntimos. Gracias a esas confidencias\, Iván puede reconstruir las trayectorias vitales de Liev Davídovich Bronstein\, también llamado Trotski\, y de Ramón Mercader\, también conocido como Jacques Mornard\, y cómo se convierten en víctima y verdugo de uno de los crímenes más reveladores del siglo xx.\nDesde el destierro impuesto por Stalin a Trotski en 1929 y el penoso periplo del exiliado\, y desde la infancia de Mercader en la Barcelona burguesa\, sus amores y peripecias durante la Guerra Civil\, o más adelante en Moscú y París\, las vidas de ambos se entrelazan hasta confluir en México. Ambas historias completan su sentido cuando sobre ellas proyecta Iván sus avatares vitales e intelectuales en la Cuba contemporánea y su destructiva relación con el hombre que amaba a los perros.
URL:https://www.sophosenlinea.com/event/el-hombre-que-amaba-a-los-perros-de-leonardo-padura/
LOCATION:Sophos Libreria\, 4ta Avenida 12-59 Zona 10 Plaza Fontabella 2do. nivel local 1D\, Guatemala City\, 01010\, Guatemala
ATTACH;FMTTYPE=image/jpeg:https://www.sophosenlinea.com/wp-content/uploads/2017/10/602af40946c55a775fa94e0582733adf.jpg
END:VEVENT
END:VCALENDAR