BEGIN:VCALENDAR
VERSION:2.0
PRODID:-//Sophos - ECPv6.15.17.1//NONSGML v1.0//EN
CALSCALE:GREGORIAN
METHOD:PUBLISH
X-WR-CALNAME:Sophos
X-ORIGINAL-URL:https://www.sophosenlinea.com
X-WR-CALDESC:Eventos para Sophos
REFRESH-INTERVAL;VALUE=DURATION:PT1H
X-Robots-Tag:noindex
X-PUBLISHED-TTL:PT1H
BEGIN:VTIMEZONE
TZID:America/Chicago
BEGIN:DAYLIGHT
TZOFFSETFROM:-0600
TZOFFSETTO:-0500
TZNAME:CDT
DTSTART:20160313T080000
END:DAYLIGHT
BEGIN:STANDARD
TZOFFSETFROM:-0500
TZOFFSETTO:-0600
TZNAME:CST
DTSTART:20161106T070000
END:STANDARD
BEGIN:DAYLIGHT
TZOFFSETFROM:-0600
TZOFFSETTO:-0500
TZNAME:CDT
DTSTART:20170312T080000
END:DAYLIGHT
BEGIN:STANDARD
TZOFFSETFROM:-0500
TZOFFSETTO:-0600
TZNAME:CST
DTSTART:20171105T070000
END:STANDARD
BEGIN:DAYLIGHT
TZOFFSETFROM:-0600
TZOFFSETTO:-0500
TZNAME:CDT
DTSTART:20180311T080000
END:DAYLIGHT
BEGIN:STANDARD
TZOFFSETFROM:-0500
TZOFFSETTO:-0600
TZNAME:CST
DTSTART:20181104T070000
END:STANDARD
END:VTIMEZONE
BEGIN:VEVENT
DTSTART;TZID=America/Chicago:20171001T110000
DTEND;TZID=America/Chicago:20171001T120000
DTSTAMP:20260419T141722
CREATED:20170926T071635Z
LAST-MODIFIED:20170930T185130Z
UID:1374-1506855600-1506859200@www.sophosenlinea.com
SUMMARY:Nuuk ¡Maravilloso como tú! por Itala Vettorazzi
DESCRIPTION:Nuuk es un hermoso manatí que\, junto a su maestra y sus amigos\, descubre que es lo hace falta en el mundo para que los seres humanos puedan vivir en paz. \nVen y conoce a la creadora de Nuuk\, Itala Vetorazzi\, quien con varias actividades contará el cuento de Nuuk y sus aventuras.
URL:https://www.sophosenlinea.com/event/nuuk-maravilloso-como-tu-por-itala-vettorazzi/
LOCATION:Sophos Libreria\, 4ta Avenida 12-59 Zona 10 Plaza Fontabella 2do. nivel local 1D\, Guatemala City\, 01010\, Guatemala
ATTACH;FMTTYPE=image/jpeg:https://www.sophosenlinea.com/wp-content/uploads/2017/09/34d45221d4a20d7ca69cdd6e2ad9ad74.jpg
END:VEVENT
END:VCALENDAR