BEGIN:VCALENDAR
VERSION:2.0
PRODID:-//Sophos - ECPv6.15.17.1//NONSGML v1.0//EN
CALSCALE:GREGORIAN
METHOD:PUBLISH
X-WR-CALNAME:Sophos
X-ORIGINAL-URL:https://www.sophosenlinea.com
X-WR-CALDESC:Eventos para Sophos
REFRESH-INTERVAL;VALUE=DURATION:PT1H
X-Robots-Tag:noindex
X-PUBLISHED-TTL:PT1H
BEGIN:VTIMEZONE
TZID:America/Chicago
BEGIN:DAYLIGHT
TZOFFSETFROM:-0600
TZOFFSETTO:-0500
TZNAME:CDT
DTSTART:20160313T080000
END:DAYLIGHT
BEGIN:STANDARD
TZOFFSETFROM:-0500
TZOFFSETTO:-0600
TZNAME:CST
DTSTART:20161106T070000
END:STANDARD
BEGIN:DAYLIGHT
TZOFFSETFROM:-0600
TZOFFSETTO:-0500
TZNAME:CDT
DTSTART:20170312T080000
END:DAYLIGHT
BEGIN:STANDARD
TZOFFSETFROM:-0500
TZOFFSETTO:-0600
TZNAME:CST
DTSTART:20171105T070000
END:STANDARD
BEGIN:DAYLIGHT
TZOFFSETFROM:-0600
TZOFFSETTO:-0500
TZNAME:CDT
DTSTART:20180311T080000
END:DAYLIGHT
BEGIN:STANDARD
TZOFFSETFROM:-0500
TZOFFSETTO:-0600
TZNAME:CST
DTSTART:20181104T070000
END:STANDARD
END:VTIMEZONE
BEGIN:VEVENT
DTSTART;TZID=America/Chicago:20170926T190000
DTEND;TZID=America/Chicago:20170926T203000
DTSTAMP:20260419T141840
CREATED:20170923T212441Z
LAST-MODIFIED:20170927T154204Z
UID:1364-1506452400-1506457800@www.sophosenlinea.com
SUMMARY:Crónicas de un Módena por Martín Redondo Montenegro
DESCRIPTION:Esta es la historia de un joven capitán\, encargando de la legión más importante y temida de un rey extranjero. Llegó a este puesto con muchos altibajos en su vida; sacrificios y pérdidas\, pero también con mucha habilidad\, astucia y picardía. Acumulando un record lleno de éxitos y victorias\, las cuales le ayudaron a darle una temible reputación. Demostrando que el “sí mismo” no es algo que uno encuentra\, sino algo que uno crea.\nÉl  y su tripulación cumplen a cabalidad las encomiendas del Rey\, viajando por el mundo dando caza a sus objetivos\, hasta que\, en una misión en un país lejano\, se topa con una orden misteriosa que\, a pesar de no acabar bien el encuentro\, le dejan una espina en su corazón que no podrá sacar. A su vez\, la guerra estalla contra su país de origen y un conflicto interno nacerá en él al ver que está haciendo lo incorrecto y al descubrir los verdaderos planes del Rey y de su misteriosa consejera. \nMartín Redondo Montenegro\nDebuto como escritor al proponer esta entrega de Crónicas de un Módena\, la cual constará de más entregas en el futuro.\nNació un 23 de diciembre\, no hace muchas primaveras en Guatemala de la Asunción\, Guatemala. En donde se crió y creció toda su vida. Se graduó del colegio y actualmente está terminando sus estudios universitarios en psicología.
URL:https://www.sophosenlinea.com/event/cronicas-de-un-modena-por-martin-redondo-montenegro/
LOCATION:Sophos Libreria\, 4ta Avenida 12-59 Zona 10 Plaza Fontabella 2do. nivel local 1D\, Guatemala City\, 01010\, Guatemala
ATTACH;FMTTYPE=image/jpeg:https://www.sophosenlinea.com/wp-content/uploads/2017/09/6669a204eb35e470ec9b50af9cdb0652.jpg
END:VEVENT
BEGIN:VEVENT
DTSTART;TZID=America/Chicago:20170926T190000
DTEND;TZID=America/Chicago:20170926T210000
DTSTAMP:20260419T141840
CREATED:20170921T052544Z
LAST-MODIFIED:20170927T154204Z
UID:1351-1506452400-1506459600@www.sophosenlinea.com
SUMMARY:Oswaldo Salazar
DESCRIPTION:Lectores Empedernidos Gratis\nPúblico en general Q 25 \nVenga y comparta una copa de vino con el autor de Por el lado oscuro y Hombres de papel.  \nOswaldo Salazar. Guatemala\, 1959. Ph.D. en Filosofía\, Boston College\, USA. Catedrático y decano de la Facultad de Humanidades de la Universidad Rafael Landívar\, Guatemala. Ha sido profesor visitante en Cambridge University\, UK\, y en la Universidad Iberoamericana\, México\, D.F. Conferencista en University of Colorado\, Colorado Springs\, y en University of Texas\, Austin. Es catedrático de Filosofía en la Universidad Francisco Marroquín\, Guatemala. Miembro de número de la Academia Guatemalteca de la Lengua\, perteneciente a la Asociación de Academias de la Lengua Española. Dirigió la colección Historia moderna de la etnicidad en Guatemala. La visión hegemónica\, y es autor de los volúmenes: De 1944 al presente y Bernal Díaz del Castillo. Su novela Por el lado oscuro recibió el Premio Centroamericano de Novela Mario Monteforte Toledo en 2003 y fue traducida al inglés y publicada en el Reino Unido (From the darkness\, 2007). Actualmente desarrolla investigación filosófica en los campos de la Filosofía del lenguaje\, de la literatura y\, específicamente\, la Filosofía de la narración.
URL:https://www.sophosenlinea.com/event/oswaldo-salazar/
LOCATION:Sophos Libreria\, 4ta Avenida 12-59 Zona 10 Plaza Fontabella 2do. nivel local 1D\, Guatemala City\, 01010\, Guatemala
ATTACH;FMTTYPE=image/jpeg:https://www.sophosenlinea.com/wp-content/uploads/2017/09/e6be4d5b9d1d695416e4b360640286dc.jpg
END:VEVENT
END:VCALENDAR