BEGIN:VCALENDAR
VERSION:2.0
PRODID:-//Sophos - ECPv6.15.17.1//NONSGML v1.0//EN
CALSCALE:GREGORIAN
METHOD:PUBLISH
X-WR-CALNAME:Sophos
X-ORIGINAL-URL:https://www.sophosenlinea.com
X-WR-CALDESC:Eventos para Sophos
REFRESH-INTERVAL;VALUE=DURATION:PT1H
X-Robots-Tag:noindex
X-PUBLISHED-TTL:PT1H
BEGIN:VTIMEZONE
TZID:America/Chicago
BEGIN:DAYLIGHT
TZOFFSETFROM:-0600
TZOFFSETTO:-0500
TZNAME:CDT
DTSTART:20160313T080000
END:DAYLIGHT
BEGIN:STANDARD
TZOFFSETFROM:-0500
TZOFFSETTO:-0600
TZNAME:CST
DTSTART:20161106T070000
END:STANDARD
BEGIN:DAYLIGHT
TZOFFSETFROM:-0600
TZOFFSETTO:-0500
TZNAME:CDT
DTSTART:20170312T080000
END:DAYLIGHT
BEGIN:STANDARD
TZOFFSETFROM:-0500
TZOFFSETTO:-0600
TZNAME:CST
DTSTART:20171105T070000
END:STANDARD
BEGIN:DAYLIGHT
TZOFFSETFROM:-0600
TZOFFSETTO:-0500
TZNAME:CDT
DTSTART:20180311T080000
END:DAYLIGHT
BEGIN:STANDARD
TZOFFSETFROM:-0500
TZOFFSETTO:-0600
TZNAME:CST
DTSTART:20181104T070000
END:STANDARD
END:VTIMEZONE
BEGIN:VEVENT
DTSTART;TZID=America/Chicago:20170920T103000
DTEND;TZID=America/Chicago:20170920T113000
DTSTAMP:20260419T141829
CREATED:20170913T170334Z
LAST-MODIFIED:20170919T144157Z
UID:1330-1505903400-1505907000@www.sophosenlinea.com
SUMMARY:Hot sur de Laura Restrepo
DESCRIPTION:Modera Julia Helena Bermúdez\n10% de descuento en las lecturas programadas \nMaría Paz es una joven latina que\, como tantas otras\, ha llegado a Estados Unidos persiguiendo la utopía. Pero el sueño americano se convierte en pesadilla cuando es acusada del asesinato de su marido\, un policía blanco\, y condenada a prisión. Sin embargo\, la vida de María Paz dará un giro vertiginoso cuando descubra que el verdadero horror\, el que pondrá a prueba todo su temple\, está esperándola fuera de las rejas. Laura Restrepo nos atrapa con este thriller trepidante\, magníficamente construido\, terrorífico pero también divertido. Un homenaje a la mujer y una crítica feroz al mundo occidental capitalista y a sus falsos sueños de prosperidad.
URL:https://www.sophosenlinea.com/event/hot-sur-de-laura-restrepo/
LOCATION:Sophos Libreria\, 4ta Avenida 12-59 Zona 10 Plaza Fontabella 2do. nivel local 1D\, Guatemala City\, 01010\, Guatemala
ATTACH;FMTTYPE=image/jpeg:https://www.sophosenlinea.com/wp-content/uploads/2017/09/2ef996cb482c540e9ba2745c3f59d4d1-1.jpg
END:VEVENT
BEGIN:VEVENT
DTSTART;TZID=America/Chicago:20170920T190000
DTEND;TZID=America/Chicago:20170920T200000
DTSTAMP:20260419T141829
CREATED:20170913T170335Z
LAST-MODIFIED:20170921T052543Z
UID:1333-1505934000-1505937600@www.sophosenlinea.com
SUMMARY:La campana de cristal de Sylvia Plath
DESCRIPTION:Modera Julia Helena Bermúdez\n10% de descuento en lecturas programadas \nÚnica obra narrativa de la gran poeta norteamericana\, ésta es una novela sobre la adolescencia\, un retrato de la artista adolescente y de la
URL:https://www.sophosenlinea.com/event/la-campana-de-cristal-de-sylvia-plath/
LOCATION:Sophos Libreria\, 4ta Avenida 12-59 Zona 10 Plaza Fontabella 2do. nivel local 1D\, Guatemala City\, 01010\, Guatemala
ATTACH;FMTTYPE=image/jpeg:https://www.sophosenlinea.com/wp-content/uploads/2017/09/e1f2e047bea76cf9e7585f7dc751d606-1.jpg
END:VEVENT
BEGIN:VEVENT
DTSTART;TZID=America/Chicago:20170920T190000
DTEND;TZID=America/Chicago:20170920T200000
DTSTAMP:20260419T141829
CREATED:20170913T170335Z
LAST-MODIFIED:20170913T170335Z
UID:1335-1505934000-1505937600@www.sophosenlinea.com
SUMMARY:La campana de cristal de Sylvia Plath
DESCRIPTION:Modera Julia Helena Bermúdez\n10% de descuento en lecturas programadas \nÚnica obra narrativa de la gran poeta norteamericana\, ésta es una novela sobre la adolescencia\, un retrato de la artista adolescente y de la
URL:https://www.sophosenlinea.com/event/la-campana-de-cristal-de-sylvia-plath-2/
LOCATION:Sophos Libreria\, 4ta Avenida 12-59 Zona 10 Plaza Fontabella 2do. nivel local 1D\, Guatemala City\, 01010\, Guatemala
ATTACH;FMTTYPE=image/jpeg:https://www.sophosenlinea.com/wp-content/uploads/2017/09/e1f2e047bea76cf9e7585f7dc751d606-1.jpg
END:VEVENT
BEGIN:VEVENT
DTSTART;TZID=America/Chicago:20170920T190000
DTEND;TZID=America/Chicago:20170920T210000
DTSTAMP:20260419T141829
CREATED:20170913T170336Z
LAST-MODIFIED:20170921T052543Z
UID:1338-1505934000-1505941200@www.sophosenlinea.com
SUMMARY:El Patio Trasero: La increíble historia de Guatemala en el 2015
DESCRIPTION:«Todo iba de maravilla para el presidente y la vicepresidenta. Hasta que una aparente inocente llamada a un ciudadano chino llamado Miao Miao\, interceptada por un órgano de la ONU\, desató un terremoto político inimaginable.  \nEl Patio Trasero\, escrito por los periodistas José Carlos Móvil y Antonio Barrios\, es una reconstrucción con más de un centenar de fuentes del sismo político que sacudió a Guatemala durante 2015 y que provocó la caída del gobierno del exmilitar Otto Fernando Pérez Molina. \nLa historia relata los inesperados acontecimientos registrados entre abril y octubre de aquel año en la nación centroamericana\, donde el amor\, la soberanía\, la ambición\, la justicia\, el poder popular y las redes sociales jugaron un papel trascendental para moldear la trama. \nA dos años de la salida de Pérez Molina\, la conversación con los autores girará en torno a la inusual historia que relata el libro\, uno de los tres más vendidos en Sophos durante 2017\, y también en la reconfiguración del mapa político actual en Guatemala» \nAna MaríaRodas\nJosé Carlos Móvil\nAntonio Barrios
URL:https://www.sophosenlinea.com/event/el-patio-trasero-la-increible-historia-de-guatemala-en-el-ano-2/
LOCATION:Sophos Libreria\, 4ta Avenida 12-59 Zona 10 Plaza Fontabella 2do. nivel local 1D\, Guatemala City\, 01010\, Guatemala
ATTACH;FMTTYPE=image/jpeg:https://www.sophosenlinea.com/wp-content/uploads/2017/09/91cc06ef2acae69c4a109ec64768d2e5.jpg
END:VEVENT
END:VCALENDAR