BEGIN:VCALENDAR
VERSION:2.0
PRODID:-//Sophos - ECPv6.15.17.1//NONSGML v1.0//EN
CALSCALE:GREGORIAN
METHOD:PUBLISH
X-ORIGINAL-URL:https://www.sophosenlinea.com
X-WR-CALDESC:Eventos para Sophos
REFRESH-INTERVAL;VALUE=DURATION:PT1H
X-Robots-Tag:noindex
X-PUBLISHED-TTL:PT1H
BEGIN:VTIMEZONE
TZID:America/Chicago
BEGIN:DAYLIGHT
TZOFFSETFROM:-0600
TZOFFSETTO:-0500
TZNAME:CDT
DTSTART:20160313T080000
END:DAYLIGHT
BEGIN:STANDARD
TZOFFSETFROM:-0500
TZOFFSETTO:-0600
TZNAME:CST
DTSTART:20161106T070000
END:STANDARD
BEGIN:DAYLIGHT
TZOFFSETFROM:-0600
TZOFFSETTO:-0500
TZNAME:CDT
DTSTART:20170312T080000
END:DAYLIGHT
BEGIN:STANDARD
TZOFFSETFROM:-0500
TZOFFSETTO:-0600
TZNAME:CST
DTSTART:20171105T070000
END:STANDARD
BEGIN:DAYLIGHT
TZOFFSETFROM:-0600
TZOFFSETTO:-0500
TZNAME:CDT
DTSTART:20180311T080000
END:DAYLIGHT
BEGIN:STANDARD
TZOFFSETFROM:-0500
TZOFFSETTO:-0600
TZNAME:CST
DTSTART:20181104T070000
END:STANDARD
END:VTIMEZONE
BEGIN:VEVENT
DTSTART;TZID=America/Chicago:20170913T103000
DTEND;TZID=America/Chicago:20170913T113000
DTSTAMP:20260419T140958
CREATED:20170908T022829Z
LAST-MODIFIED:20170912T143420Z
UID:1316-1505298600-1505302200@www.sophosenlinea.com
SUMMARY:Demasiados secretos de Anabella Giracca
DESCRIPTION:Modera Mirna de Gutiérrrez y Cristina Barillas\n10% de descuento en lecturas programadas \nEl embarazo precoz de Elena\, producto de un juego de niños\, une a dos familias que durante tres generaciones compartirán amores\, dolores\, alegrías y\, sobre todo\, secretos. Mientras\, la convulsa situación de Guatemala moldea las acciones de los personajes y los lleva a desenlaces inesperados.
URL:https://www.sophosenlinea.com/event/demasiados-secretos-de-anabella-giracca/
LOCATION:Sophos Libreria\, 4ta Avenida 12-59 Zona 10 Plaza Fontabella 2do. nivel local 1D\, Guatemala City\, 01010\, Guatemala
ATTACH;FMTTYPE=image/jpeg:https://www.sophosenlinea.com/wp-content/uploads/2017/09/f9eead453c19d773ba60acf1a92892c7.jpg
END:VEVENT
END:VCALENDAR