BEGIN:VCALENDAR
VERSION:2.0
PRODID:-//Sophos - ECPv6.15.17.1//NONSGML v1.0//EN
CALSCALE:GREGORIAN
METHOD:PUBLISH
X-WR-CALNAME:Sophos
X-ORIGINAL-URL:https://www.sophosenlinea.com
X-WR-CALDESC:Eventos para Sophos
REFRESH-INTERVAL;VALUE=DURATION:PT1H
X-Robots-Tag:noindex
X-PUBLISHED-TTL:PT1H
BEGIN:VTIMEZONE
TZID:America/Chicago
BEGIN:DAYLIGHT
TZOFFSETFROM:-0600
TZOFFSETTO:-0500
TZNAME:CDT
DTSTART:20160313T080000
END:DAYLIGHT
BEGIN:STANDARD
TZOFFSETFROM:-0500
TZOFFSETTO:-0600
TZNAME:CST
DTSTART:20161106T070000
END:STANDARD
BEGIN:DAYLIGHT
TZOFFSETFROM:-0600
TZOFFSETTO:-0500
TZNAME:CDT
DTSTART:20170312T080000
END:DAYLIGHT
BEGIN:STANDARD
TZOFFSETFROM:-0500
TZOFFSETTO:-0600
TZNAME:CST
DTSTART:20171105T070000
END:STANDARD
BEGIN:DAYLIGHT
TZOFFSETFROM:-0600
TZOFFSETTO:-0500
TZNAME:CDT
DTSTART:20180311T080000
END:DAYLIGHT
BEGIN:STANDARD
TZOFFSETFROM:-0500
TZOFFSETTO:-0600
TZNAME:CST
DTSTART:20181104T070000
END:STANDARD
END:VTIMEZONE
BEGIN:VEVENT
DTSTART;TZID=America/Chicago:20170908T190000
DTEND;TZID=America/Chicago:20170908T203000
DTSTAMP:20260419T141737
CREATED:20170903T084244Z
LAST-MODIFIED:20170909T033922Z
UID:1301-1504897200-1504902600@www.sophosenlinea.com
SUMMARY:La región más invisible por Javier Payeras
DESCRIPTION:A cargo de Wingston González. \nJavier Payeras\, más citadino que artesano\, testigo privilegiado del acontecer cultural de este principio de siglo\, reúne en La región más invisible\, lucidez\, reflexiones\, notas\, columnas\, y textos de presentaciones de libros\, unas más concretas que otras; otras\, pretextos para divagar\, acusar y delimitar sobre el cuerpo del gran Frankenstein que llamamos alta cultura.
URL:https://www.sophosenlinea.com/event/la-region-mas-invisible-por-javier-payeras/
LOCATION:Sophos Libreria\, 4ta Avenida 12-59 Zona 10 Plaza Fontabella 2do. nivel local 1D\, Guatemala City\, 01010\, Guatemala
ATTACH;FMTTYPE=image/jpeg:https://www.sophosenlinea.com/wp-content/uploads/2017/09/2a393b2397574ed4a866062a148cbc8f.jpg
END:VEVENT
END:VCALENDAR