BEGIN:VCALENDAR
VERSION:2.0
PRODID:-//Sophos - ECPv6.15.17.1//NONSGML v1.0//EN
CALSCALE:GREGORIAN
METHOD:PUBLISH
X-ORIGINAL-URL:https://www.sophosenlinea.com
X-WR-CALDESC:Eventos para Sophos
REFRESH-INTERVAL;VALUE=DURATION:PT1H
X-Robots-Tag:noindex
X-PUBLISHED-TTL:PT1H
BEGIN:VTIMEZONE
TZID:America/Chicago
BEGIN:DAYLIGHT
TZOFFSETFROM:-0600
TZOFFSETTO:-0500
TZNAME:CDT
DTSTART:20160313T080000
END:DAYLIGHT
BEGIN:STANDARD
TZOFFSETFROM:-0500
TZOFFSETTO:-0600
TZNAME:CST
DTSTART:20161106T070000
END:STANDARD
BEGIN:DAYLIGHT
TZOFFSETFROM:-0600
TZOFFSETTO:-0500
TZNAME:CDT
DTSTART:20170312T080000
END:DAYLIGHT
BEGIN:STANDARD
TZOFFSETFROM:-0500
TZOFFSETTO:-0600
TZNAME:CST
DTSTART:20171105T070000
END:STANDARD
BEGIN:DAYLIGHT
TZOFFSETFROM:-0600
TZOFFSETTO:-0500
TZNAME:CDT
DTSTART:20180311T080000
END:DAYLIGHT
BEGIN:STANDARD
TZOFFSETFROM:-0500
TZOFFSETTO:-0600
TZNAME:CST
DTSTART:20181104T070000
END:STANDARD
END:VTIMEZONE
BEGIN:VEVENT
DTSTART;TZID=America/Chicago:20170214T190000
DTEND;TZID=America/Chicago:20170214T210000
DTSTAMP:20260419T193251
CREATED:20170208T113113Z
LAST-MODIFIED:20170209T131450Z
UID:562-1487098800-1487106000@www.sophosenlinea.com
SUMMARY:Querer quedarse queriendo irse: El laberinto del amor romántico
DESCRIPTION:Lectura de Poesía a cargo de Andrés Quezada\nActividad gratuita para Lectores Empedernidos\nPúblico en general Q 25\nIncluye copa de vino \nLa condena a la sensibilidad como punto de partida. Poetas locales\, malditos\, románticos y trascendentalistas confluirán en un espacio de diálogo. Ezra Pound\, Pizarnik\, Proust\, Verlaine\, Baudelaire\, Octavio Paz\, Goethe leídos en voz de quien regresa a ellos como quien recuerda los laberintos que alguna vez fueron calurosos refugios. \nAndres Quezada\nLicenciado en Letras y Filosofía por la Universidad Rafael Landívar. Su tesis “Análisis comparativo de dos novelas de formación guatemaltecas” recibió mención honorífica. Escribe para el diario digital Nómada. Condenado a la sensibilidad. Imprudente\, ridículo y errático.
URL:https://www.sophosenlinea.com/event/querer-quedarse-queriendo-irse-el-laberinto-del-amor-romantico/
LOCATION:Sophos Libreria\, 4ta Avenida 12-59 Zona 10 Plaza Fontabella 2do. nivel local 1D\, Guatemala City\, 01010\, Guatemala
ATTACH;FMTTYPE=image/jpeg:https://www.sophosenlinea.com/wp-content/uploads/2017/02/648cf883ddc5df5e95c4d02ddfc31082.jpg
END:VEVENT
END:VCALENDAR