BEGIN:VCALENDAR
VERSION:2.0
PRODID:-//Sophos - ECPv6.15.17.1//NONSGML v1.0//EN
CALSCALE:GREGORIAN
METHOD:PUBLISH
X-ORIGINAL-URL:https://www.sophosenlinea.com
X-WR-CALDESC:Eventos para Sophos
REFRESH-INTERVAL;VALUE=DURATION:PT1H
X-Robots-Tag:noindex
X-PUBLISHED-TTL:PT1H
BEGIN:VTIMEZONE
TZID:America/Chicago
BEGIN:DAYLIGHT
TZOFFSETFROM:-0600
TZOFFSETTO:-0500
TZNAME:CDT
DTSTART:20160313T080000
END:DAYLIGHT
BEGIN:STANDARD
TZOFFSETFROM:-0500
TZOFFSETTO:-0600
TZNAME:CST
DTSTART:20161106T070000
END:STANDARD
BEGIN:DAYLIGHT
TZOFFSETFROM:-0600
TZOFFSETTO:-0500
TZNAME:CDT
DTSTART:20170312T080000
END:DAYLIGHT
BEGIN:STANDARD
TZOFFSETFROM:-0500
TZOFFSETTO:-0600
TZNAME:CST
DTSTART:20171105T070000
END:STANDARD
BEGIN:DAYLIGHT
TZOFFSETFROM:-0600
TZOFFSETTO:-0500
TZNAME:CDT
DTSTART:20180311T080000
END:DAYLIGHT
BEGIN:STANDARD
TZOFFSETFROM:-0500
TZOFFSETTO:-0600
TZNAME:CST
DTSTART:20181104T070000
END:STANDARD
END:VTIMEZONE
BEGIN:VEVENT
DTSTART;TZID=America/Chicago:20170208T103000
DTEND;TZID=America/Chicago:20170208T113000
DTSTAMP:20260419T193251
CREATED:20170208T113112Z
LAST-MODIFIED:20170208T113112Z
UID:558-1486549800-1486553400@www.sophosenlinea.com
SUMMARY:Club de lectura Libros diálogo y café\, Reunión introductoria
DESCRIPTION:Actividad gratuita para todo público\n10% de descuento en las lecturas programadas para el club. \nModera Mirna de Gutiérrez y Cristina Barillas \nLa lectura es un placer solitario que por ninguna razón debe justificarse; sin embargo\, compartir en una agradable tertulia las emociones y sentimientos despertados es suficiente razón para formar parte de un grupo cuya razón de ser son los libros. \nEn el Club de lectura LIBROS\, DIÁLOGO Y CAFÉ proponemos\, para este nuevo año\, novelas de temas tan variados como la nacionalidad de sus autores\, pero que fueron seleccionadas por múltiples razones. Una de ellas\, haber tocado nuestro corazón.
URL:https://www.sophosenlinea.com/event/club-de-lectura-libros-dialogo-y-cafe-reunion-introductoria/
LOCATION:Sophos Libreria\, 4ta Avenida 12-59 Zona 10 Plaza Fontabella 2do. nivel local 1D\, Guatemala City\, 01010\, Guatemala
ATTACH;FMTTYPE=image/jpeg:https://www.sophosenlinea.com/wp-content/uploads/2017/02/55ecffb4a67b4e44aa86fdcf7563d5f1.jpg
END:VEVENT
BEGIN:VEVENT
DTSTART;TZID=America/Chicago:20170208T190000
DTEND;TZID=America/Chicago:20170208T210000
DTSTAMP:20260419T193251
CREATED:20170201T185417Z
LAST-MODIFIED:20170201T185417Z
UID:553-1486580400-1486587600@www.sophosenlinea.com
SUMMARY:El molino del oso II de Tito Bassi
DESCRIPTION:“Me llamo Ludmilla y\, a causa de un fabuloso delirio\, terminé en un viaje inesperado\, atravesando el océano Pacífico. Las cosas que uno ve… las cosas que uno oye. Dos parejas y Alfredo —un hombre solitario\, afiebrado de paludismo— se lanzaron a la mar buscando el placer de la navegación y unas islas lejanas\, hasta que el encierro dentro del velero\, la enfermedad y los celos\, acabaron por soltarles las amarras de la cordura y romper los cabos de la amistad y del amor. Alfredo\, mi solitario Alfredo… deleitosamente intoxicado por los vapores de la cannabis y alucinando por la fiebre\, encontró su destino en el paraíso\, en esas mismas tierras donde Gauguin había descubierto el suyo. Todo gracias a un viejo amigo\, José Hutchinson\, quien anhelaba romper la estela del horizonte con su velero\, el New Rochelle Star. Alfredo puede explicarles algo de lo que pasó\, y Antonio Ferrari\, el aventurero de El molino del oso\, les contará el resto de la historia. En cuanto a mí… a mí no me están escuchando; mi voz está en su imaginación”.
URL:https://www.sophosenlinea.com/event/el-molino-del-oso-ii-de-tito-bassi/
LOCATION:Sophos Libreria\, 4ta Avenida 12-59 Zona 10 Plaza Fontabella 2do. nivel local 1D\, Guatemala City\, 01010\, Guatemala
ATTACH;FMTTYPE=image/jpeg:https://www.sophosenlinea.com/wp-content/uploads/2017/02/66c75b96bc6dcb7a0cdbc2d5032865c4.jpg
END:VEVENT
END:VCALENDAR