BEGIN:VCALENDAR
VERSION:2.0
PRODID:-//Sophos - ECPv6.15.17.1//NONSGML v1.0//EN
CALSCALE:GREGORIAN
METHOD:PUBLISH
X-ORIGINAL-URL:https://www.sophosenlinea.com
X-WR-CALDESC:Eventos para Sophos
REFRESH-INTERVAL;VALUE=DURATION:PT1H
X-Robots-Tag:noindex
X-PUBLISHED-TTL:PT1H
BEGIN:VTIMEZONE
TZID:America/Chicago
BEGIN:DAYLIGHT
TZOFFSETFROM:-0600
TZOFFSETTO:-0500
TZNAME:CDT
DTSTART:20160313T080000
END:DAYLIGHT
BEGIN:STANDARD
TZOFFSETFROM:-0500
TZOFFSETTO:-0600
TZNAME:CST
DTSTART:20161106T070000
END:STANDARD
BEGIN:DAYLIGHT
TZOFFSETFROM:-0600
TZOFFSETTO:-0500
TZNAME:CDT
DTSTART:20170312T080000
END:DAYLIGHT
BEGIN:STANDARD
TZOFFSETFROM:-0500
TZOFFSETTO:-0600
TZNAME:CST
DTSTART:20171105T070000
END:STANDARD
BEGIN:DAYLIGHT
TZOFFSETFROM:-0600
TZOFFSETTO:-0500
TZNAME:CDT
DTSTART:20180311T080000
END:DAYLIGHT
BEGIN:STANDARD
TZOFFSETFROM:-0500
TZOFFSETTO:-0600
TZNAME:CST
DTSTART:20181104T070000
END:STANDARD
END:VTIMEZONE
BEGIN:VEVENT
DTSTART;TZID=America/Chicago:20170125T103000
DTEND;TZID=America/Chicago:20170125T123000
DTSTAMP:20260419T210315
CREATED:20170109T093145Z
LAST-MODIFIED:20170124T145918Z
UID:501-1485340200-1485347400@www.sophosenlinea.com
SUMMARY:Novelas - Antídoto para la desconcertante situación política act
DESCRIPTION:6 sesiones\nLos jueves de 10:30 – 12:30 horas\nInicia el 26 de enero\n(25 de enero\, 1\, 8\, 15\, 22 de febrero y 1 de marzo)\nImpartido por Pedro Luis Alonso  \nInversión Q 690\nQ590 si paga antes del 19 de enero.\nInscríbase aquí http://bit.ly/CursosYTalleresEnSOPHOS012017 \nDescripción\nEl año 2016 pasará a la historia como el de los triunfos de los conservadurismos políticos. El más espectacular e influyente de todos\, la elección de Donald Trump como presidente de Estados Unidos.\nEl fenómeno está mereciendo la atención de unas ciencias sociales empeñadas en encontrar las razones que lo expliquen. Se han aducido algunas\, como la búsqueda de seguridades ante las amenazas reales o imaginadas del trasiego hacia el primer mundo de enormes contingentes de “indeseados”; también el hartazgo de las clases medias ante los fallos de un establishment de formas democráticas pero de prácticas excluyentes y corruptas\, en cuyo seno se generó el descomunal castigo de la crisis económica del 2008 todavía irresuelta. Pero es sumamente preocupante que la elección del nuevo presidente haya levantado de inmediato enormes polvaredas de entusiasmo entre fuerzas de un conservadurismo radical muy próximo a la ideología fascista y sus banderas de xenofobia y racismo.  \nAnte este desafío de deshumanización este taller propone la lectura de tres imprescindibles clásicos: Oliver Twist (1838) de Charles Dickens\, retrato de la explotación infantil en la Inglaterra de la primera revolución industrial\, Las uvas de la ira (1939) de John Steinbeck sobre los desarraigos y exclusiones de la crisis económica de 1929 que empobreció a millones de estadounidenses y Matar a un ruiseñor (1960) de Harper Lee sobre los estragos\, también en los Estados Unidos\, de la violencia racial. Tres novelas ejemplares para penetrar el análisis sociológico con la desavia del sentimiento de humanidad presente en estas joyas de la historia de la literatura. \nPedro Luis Alonso\nEstudios superiores en Humanidades\, Filosofía y Teología en Burgos (España). Amplia trayectoria como docente en las universidades Rafael Landívar y Del Valle de Guatemala en las áreas de Literatura\, Filosofía e Historia Contemporánea.  \nHa sido Director del Instituto Guatemalteco de Cultura Hispánica y del Centro de Arte Contemporáneo “Colloquia”. Estudioso de la relación entre modernidad y pensamiento actual\, en su ensayo En el nombre de la crisis\, transformaciones religiosas de la sociedad guatemalteca contemporánea (1999) ha propuesto el concepto de religiosidad dialogante en oposición a las corrientes del fundamentalismo. Ha colaborado en importantes proyectos editoriales\, tales como la Historia General de Guatemala (6 tomos) y en los que la Universidad Mesoamericana ha dedicado a las crónicas y cosmovisión mesoamericanas.\nEs habitual tallerista de los programas formativos de la librería Sophos.
URL:https://www.sophosenlinea.com/event/novelas-antidoto-para-la-desconcertante-situacion-politica-act/
LOCATION:Sophos Libreria\, 4ta Avenida 12-59 Zona 10 Plaza Fontabella 2do. nivel local 1D\, Guatemala City\, 01010\, Guatemala
ATTACH;FMTTYPE=image/jpeg:https://www.sophosenlinea.com/wp-content/uploads/2017/01/908df58dc9a089ebbbf9c7c9886c19a4.jpg
END:VEVENT
BEGIN:VEVENT
DTSTART;TZID=America/Chicago:20170125T183000
DTEND;TZID=America/Chicago:20170125T203000
DTSTAMP:20260419T210315
CREATED:20170107T211617Z
LAST-MODIFIED:20170126T063547Z
UID:497-1485369000-1485376200@www.sophosenlinea.com
SUMMARY:Medio Oriente
DESCRIPTION:6 sesiones\nLos miércoles de 18:30 – 20:30 horas\nInicia el 25 de enero\n(25 de enero\, 1\,8\,15\,22 de febrero y 1 de marzo)\nImparte Roberto Wagner \nInversión Q 690\nQ 590 si paga antes del 18 de enero.\nInscríbase aquí http://bit.ly/CursosYTalleresEnSOPHOS012017 \nDescripción\n«Oriente es menos un lugar que un topos\, un conjunto de referencias\, un cúmulo de características que parecen tener su origen en una cita\, en el fragmento de un texto\, en un párrafo de la obra de otro autor que ha escrito sobre el tema\, en algún aspecto de una imagen previa o en una amalgama de todo esto.”\nEdward Said. \nEl taller de Medio Oriente encapsula puntos característicos de la historia de dicha región como el origen de grandes civilizaciones\, la creación del Islam y el auge y caída del Imperio Otomano como referencias para comprender los conflictos de hoy y el futuro de la región. \nRoberto Wagner\nRoberto Antonio Wagner realizó estudios en Guatemala\, Inglaterra e Italia y actualmente es profesor universitario de Historia\, Política y Relaciones Internacionales\, analista político\, conferencista y columnista de prensa.
URL:https://www.sophosenlinea.com/event/medio-oriente/
LOCATION:Sophos Libreria\, 4ta Avenida 12-59 Zona 10 Plaza Fontabella 2do. nivel local 1D\, Guatemala City\, 01010\, Guatemala
ATTACH;FMTTYPE=image/jpeg:https://www.sophosenlinea.com/wp-content/uploads/2017/01/ce2308c65eba10bb2685266ce6ed2c53.jpg
END:VEVENT
BEGIN:VEVENT
DTSTART;TZID=America/Chicago:20170125T190000
DTEND;TZID=America/Chicago:20170125T210000
DTSTAMP:20260419T210315
CREATED:20170124T145918Z
LAST-MODIFIED:20170126T063547Z
UID:531-1485370800-1485378000@www.sophosenlinea.com
SUMMARY:Vivir en el maldito trópico de David Uger
DESCRIPTION:Actividad gratuita para todo público\nAcompañan a David Unger\,  Javier Mosquera Saravia y Raúl Figueroa.  \nDavid Unger teje magistralmente esta historia\, evitando cualquier deseo de emitir juicios morales. De la misma forma en la que lo hacen los personajes de la novela\, nos sumergimos en las páginas de este libro y nos identificamos con su confusión y su desconcierto ante la completa realidad y todas sus complejidades. Esta no es una historia de buenos y malos. Todos son antihéroes. Pero en la imperfección y la vulnerabilidad de los personajes\, en la manera en la que son apremiados por las contradicciones\, en la ruina que se procuran a sí mismos\, hay un juego de espejos\, una mirada realista a la sociedad en la que habitan. Dan a luz a un monstruo. Saturno devorando a sus propios hijos.\nGioconda Belli \nÁgil y divertida\, reveladora de una cruda realidad latinoamericana\, Vivir en el maldito trópico de David Unger se lee de un tirón. Y al cabo de la lectura uno termina reconociéndose\, porque esa historia no es más que nuestra propia historia.\nSilvia Molina \nÉsta es una sofisticada y\, en muchas ocasiones\, amargamente divertida novela acerca de un romance político que me hace pensar en Graham Greene. A través de la voz y de los ojos de un narrador judío\, más o menos identificado con Unger\, la ciudad de Guatemala en los años ochenta del siglo XX —un lugar de terror\, pero también de obligaciones familiares\, de viejas amistades\, de amores y desamores de personas de la mediana edad— es evocada bellamente.\nFrancisco Goldman \nFormado en tres tradiciones y dos lenguas\, David Unger ha sabido rescatar con ironía y pasión las peripecias de una familia judía en la Guatemala de los ochenta. Historia de tres hermanos\, de los “choques de civilizaciones” tan en boga en esta época y de la pluralidad de costumbres que conviven en América Latina\, Vivir en el maldito trópico es una novela que se lee con perplejidad e inmenso placer.\nJorge Volpi
URL:https://www.sophosenlinea.com/event/vivir-en-el-maldito-tropico-de-david-uger/
LOCATION:Sophos Libreria\, 4ta Avenida 12-59 Zona 10 Plaza Fontabella 2do. nivel local 1D\, Guatemala City\, 01010\, Guatemala
ATTACH;FMTTYPE=image/jpeg:https://www.sophosenlinea.com/wp-content/uploads/2017/01/4bf4919b0df473974071b1f70fb6abaf.jpg
END:VEVENT
END:VCALENDAR