BEGIN:VCALENDAR
VERSION:2.0
PRODID:-//Sophos - ECPv6.15.17.1//NONSGML v1.0//EN
CALSCALE:GREGORIAN
METHOD:PUBLISH
X-WR-CALNAME:Sophos
X-ORIGINAL-URL:https://www.sophosenlinea.com
X-WR-CALDESC:Eventos para Sophos
REFRESH-INTERVAL;VALUE=DURATION:PT1H
X-Robots-Tag:noindex
X-PUBLISHED-TTL:PT1H
BEGIN:VTIMEZONE
TZID:America/Chicago
BEGIN:DAYLIGHT
TZOFFSETFROM:-0600
TZOFFSETTO:-0500
TZNAME:CDT
DTSTART:20160313T080000
END:DAYLIGHT
BEGIN:STANDARD
TZOFFSETFROM:-0500
TZOFFSETTO:-0600
TZNAME:CST
DTSTART:20161106T070000
END:STANDARD
BEGIN:DAYLIGHT
TZOFFSETFROM:-0600
TZOFFSETTO:-0500
TZNAME:CDT
DTSTART:20170312T080000
END:DAYLIGHT
BEGIN:STANDARD
TZOFFSETFROM:-0500
TZOFFSETTO:-0600
TZNAME:CST
DTSTART:20171105T070000
END:STANDARD
BEGIN:DAYLIGHT
TZOFFSETFROM:-0600
TZOFFSETTO:-0500
TZNAME:CDT
DTSTART:20180311T080000
END:DAYLIGHT
BEGIN:STANDARD
TZOFFSETFROM:-0500
TZOFFSETTO:-0600
TZNAME:CST
DTSTART:20181104T070000
END:STANDARD
END:VTIMEZONE
BEGIN:VEVENT
DTSTART;TZID=America/Chicago:20170124T190000
DTEND;TZID=America/Chicago:20170124T210000
DTSTAMP:20260419T210214
CREATED:20170124T145917Z
LAST-MODIFIED:20170124T145917Z
UID:528-1485284400-1485291600@www.sophosenlinea.com
SUMMARY:Vanessa Núñez
DESCRIPTION:Lectores Empedernidos gratis\nPúblico en general Q 25 \nAbogada\, escritora\, docente y editora salvadoreña\, con estudios de maestría en ciencias políticas y literatura iberoamericana. Nacida en 1973 en El Salvador\, reside actualmente en Guatemala. Ha publicado Los locos mueren de viejos (FyG Editores\, 2008 y La Pereza\, 2015)\, Dios tenía miedo (FyG Editores\, 2011 y Editorial Piedrasanta\, 2016)\, La caja de cuentos (libro objeto) (Alas de Barrilete\,2015)\, Espejos (Uruk Editores\, 2015)\, Animales Interiores (en coautoría con Frida Larios\, 2015)\, así como varios cuentos en diversas antologías y revistas de países tales como España\, Francia\, Alemania\, Suiza\, Estados Unidos\, Colombia\,  Nicaragua\, Costa Rica\, El Salvador\, Guatemala y México. Su obra ha sido traducida al francés\, alemán e inglés. \nEs columnista de la revista de análisis político Contrapoder (Guatemala). \nHa sido ponente invitada en la Universidad de Guadalajara\, Universidad de Liverpool\, Universidad del Valle de Managua\, Universidad Rafael Landívar\, Universidad de Tulane\, Universidad de Loyola\, Instituto Iberoamericano de Frankfurt\, Instituto Cervantes de Berlín e Instituto Latinoamericano de Viena. \nHa sido invitada como escritora a diversos eventos literarios tales como la Feria Internacional del Libro de Frankfurt\, Feria Internacional del Libro de Guadalajara\, Feria del Libro de Panamá\, Festival de narradores “Centroamérica Cuenta”\, Festival de la palabra de Puerto Rico\, Congreso Internacional de Literatura Centroamericana (CILCA)\, Residencia para artistas de Casamarles\, Barcelona\, Proyecto “Ida y Vuelta”\, Bruselas. \nActualmente coordina la iniciativa de artistas e intelectuales MirArte\, tendientes a impulsar una cultura de paz a través de la implementación del arte y la cultura como forma de cohesionar a la sociedad.
URL:https://www.sophosenlinea.com/event/vanessa-nunez/
LOCATION:Sophos Libreria\, 4ta Avenida 12-59 Zona 10 Plaza Fontabella 2do. nivel local 1D\, Guatemala City\, 01010\, Guatemala
ATTACH;FMTTYPE=image/jpeg:https://www.sophosenlinea.com/wp-content/uploads/2017/01/5b2ccac19a6ad4c4c1ddc1961507c61f.jpg
END:VEVENT
END:VCALENDAR