BEGIN:VCALENDAR
VERSION:2.0
PRODID:-//Sophos - ECPv6.15.17.1//NONSGML v1.0//EN
CALSCALE:GREGORIAN
METHOD:PUBLISH
X-WR-CALNAME:Sophos
X-ORIGINAL-URL:https://www.sophosenlinea.com
X-WR-CALDESC:Eventos para Sophos
REFRESH-INTERVAL;VALUE=DURATION:PT1H
X-Robots-Tag:noindex
X-PUBLISHED-TTL:PT1H
BEGIN:VTIMEZONE
TZID:America/Chicago
BEGIN:DAYLIGHT
TZOFFSETFROM:-0600
TZOFFSETTO:-0500
TZNAME:CDT
DTSTART:20160313T080000
END:DAYLIGHT
BEGIN:STANDARD
TZOFFSETFROM:-0500
TZOFFSETTO:-0600
TZNAME:CST
DTSTART:20161106T070000
END:STANDARD
BEGIN:DAYLIGHT
TZOFFSETFROM:-0600
TZOFFSETTO:-0500
TZNAME:CDT
DTSTART:20170312T080000
END:DAYLIGHT
BEGIN:STANDARD
TZOFFSETFROM:-0500
TZOFFSETTO:-0600
TZNAME:CST
DTSTART:20171105T070000
END:STANDARD
BEGIN:DAYLIGHT
TZOFFSETFROM:-0600
TZOFFSETTO:-0500
TZNAME:CDT
DTSTART:20180311T080000
END:DAYLIGHT
BEGIN:STANDARD
TZOFFSETFROM:-0500
TZOFFSETTO:-0600
TZNAME:CST
DTSTART:20181104T070000
END:STANDARD
END:VTIMEZONE
BEGIN:VEVENT
DTSTART;TZID=America/Chicago:20170118T190000
DTEND;TZID=America/Chicago:20170118T210000
DTSTAMP:20260419T210138
CREATED:20170112T135951Z
LAST-MODIFIED:20170116T163226Z
UID:507-1484766000-1484773200@www.sophosenlinea.com
SUMMARY:El Hallazgo Inesperado de Vivian Maselli
DESCRIPTION:Actividad gratuita para todo público  \nEl Hallazgo Inesperado\, está basado en experiencias reales de la vida de la autora.\nEn él narra distintos tipos de relaciones de pareja que vivió\, tanto buenas cómo dañinas y exhorta a buscar vivir en relaciones sanas\, ya que las relaciones negativas no sólo lo van destruyendo a uno\, sino también al entorno en el que uno vive.\nNos comparte algunas herramientas que podrán ayudarnos a buscar la verdadera libertad y la felicidad\, que están en poder ser auténticos y en poderse dar a los demás con  amor. \nVivian Maselli cuenta con una certificación internacional como Líder Coach y Coach en Liderazgo.\nTiene experiencia en administración de Proyectos Inmobiliarios y administración de personal en distintas áreas.\nSu mayor motivación son sus hijos.\nY su interés más grande es seguir aprendiendo\, ya que su pasión es ayudar a las personas en general y cada vez que se le presenta la oportunidad\, trata de brindar un consejo o un apoyo\, guiando a las personas a auto valorarse y a que aprendan a ser felices.
URL:https://www.sophosenlinea.com/event/el-hallazgo-inesperado-de-vivian-maselli/
LOCATION:Sophos Libreria\, 4ta Avenida 12-59 Zona 10 Plaza Fontabella 2do. nivel local 1D\, Guatemala City\, 01010\, Guatemala
ATTACH;FMTTYPE=image/jpeg:https://www.sophosenlinea.com/wp-content/uploads/2017/01/806f438e43b8dca37b982d2b86da7e44.jpg
END:VEVENT
END:VCALENDAR