BEGIN:VCALENDAR
VERSION:2.0
PRODID:-//Sophos - ECPv6.15.17.1//NONSGML v1.0//EN
CALSCALE:GREGORIAN
METHOD:PUBLISH
X-WR-CALNAME:Sophos
X-ORIGINAL-URL:https://www.sophosenlinea.com
X-WR-CALDESC:Eventos para Sophos
REFRESH-INTERVAL;VALUE=DURATION:PT1H
X-Robots-Tag:noindex
X-PUBLISHED-TTL:PT1H
BEGIN:VTIMEZONE
TZID:America/Chicago
BEGIN:DAYLIGHT
TZOFFSETFROM:-0600
TZOFFSETTO:-0500
TZNAME:CDT
DTSTART:20160313T080000
END:DAYLIGHT
BEGIN:STANDARD
TZOFFSETFROM:-0500
TZOFFSETTO:-0600
TZNAME:CST
DTSTART:20161106T070000
END:STANDARD
BEGIN:DAYLIGHT
TZOFFSETFROM:-0600
TZOFFSETTO:-0500
TZNAME:CDT
DTSTART:20170312T080000
END:DAYLIGHT
BEGIN:STANDARD
TZOFFSETFROM:-0500
TZOFFSETTO:-0600
TZNAME:CST
DTSTART:20171105T070000
END:STANDARD
BEGIN:DAYLIGHT
TZOFFSETFROM:-0600
TZOFFSETTO:-0500
TZNAME:CDT
DTSTART:20180311T080000
END:DAYLIGHT
BEGIN:STANDARD
TZOFFSETFROM:-0500
TZOFFSETTO:-0600
TZNAME:CST
DTSTART:20181104T070000
END:STANDARD
END:VTIMEZONE
BEGIN:VEVENT
DTSTART;TZID=America/Chicago:20170114T163000
DTEND;TZID=America/Chicago:20170114T173000
DTSTAMP:20260419T210214
CREATED:20161220T110308Z
LAST-MODIFIED:20170113T144909Z
UID:478-1484411400-1484415000@www.sophosenlinea.com
SUMMARY:Club de lectura: Comelibros
DESCRIPTION:Salón de conferencias\nClub de lectura para jóvenes\nCOMELIBROS\nA cargo de: Niky Moliviatis\n16:30 horas\nCada segundo sábado del mes\nJóvenes de 13 a 18 años.\n10% de descuento en los libros del club. \nLeemos para olvidar lo que pasa a nuestro alrededor\, leemos para poner al límite nuestra imaginación y creamos mundos que solo un lector puede entender.\nSOPHOS Joven es más que un área\, es un rincón donde cualquier Nefilim\, semi-Dios\, Cazador de Sombra\, Tributo\, Divergente\, Mago\, Ángel caído\, mundano\, muggle… o cualquier tipo de ser fantástico pueda expresarse de manera libre. No tenemos reglas\, ni un listado de libros\, porque seamos sinceros ¿Quién hace caso a ellas?\nDejamos de creer en la realidad para introducirnos al mundo de los libros. \nNiky Moliviatis\nEscritora guatemalteca con más de 20 mil seguidores en Wattpad\, apasionada por la literatura juvenil. Tiene un exceso de imaginación y un Crush eterno por los hermanos Maddox. La mitad del tiempo cree que es Cazadora de sombras\, y la otra mitad librera en SOPHOS.\nEstudia una maestría en Imagen pública. Le gusta la producción cinematográfica\, la fotografía y la actuación.
URL:https://www.sophosenlinea.com/event/club-de-lectura-comelibros/
LOCATION:Sophos Libreria\, 4ta Avenida 12-59 Zona 10 Plaza Fontabella 2do. nivel local 1D\, Guatemala City\, 01010\, Guatemala
ATTACH;FMTTYPE=image/jpeg:https://www.sophosenlinea.com/wp-content/uploads/2016/12/b72a33a58b400a16f15351a6545a227a-2.jpg
END:VEVENT
END:VCALENDAR